BEGIN:VCALENDAR
VERSION:2.0
PRODID:-//Ped/Bike Melrose - ECPv6.15.20//NONSGML v1.0//EN
CALSCALE:GREGORIAN
METHOD:PUBLISH
X-ORIGINAL-URL:https://pedbikemelrose.org
X-WR-CALDESC:Events for Ped/Bike Melrose
REFRESH-INTERVAL;VALUE=DURATION:PT1H
X-Robots-Tag:noindex
X-PUBLISHED-TTL:PT1H
BEGIN:VTIMEZONE
TZID:America/New_York
BEGIN:DAYLIGHT
TZOFFSETFROM:-0500
TZOFFSETTO:-0400
TZNAME:EDT
DTSTART:20210314T070000
END:DAYLIGHT
BEGIN:STANDARD
TZOFFSETFROM:-0400
TZOFFSETTO:-0500
TZNAME:EST
DTSTART:20211107T060000
END:STANDARD
BEGIN:DAYLIGHT
TZOFFSETFROM:-0500
TZOFFSETTO:-0400
TZNAME:EDT
DTSTART:20220313T070000
END:DAYLIGHT
BEGIN:STANDARD
TZOFFSETFROM:-0400
TZOFFSETTO:-0500
TZNAME:EST
DTSTART:20221106T060000
END:STANDARD
BEGIN:DAYLIGHT
TZOFFSETFROM:-0500
TZOFFSETTO:-0400
TZNAME:EDT
DTSTART:20230312T070000
END:DAYLIGHT
BEGIN:STANDARD
TZOFFSETFROM:-0400
TZOFFSETTO:-0500
TZNAME:EST
DTSTART:20231105T060000
END:STANDARD
END:VTIMEZONE
BEGIN:VEVENT
DTSTART;TZID=America/New_York:20221008T140000
DTEND;TZID=America/New_York:20221008T180000
DTSTAMP:20260423T090256
CREATED:20221004T192234Z
LAST-MODIFIED:20221004T192234Z
UID:711-1665237600-1665252000@pedbikemelrose.org
SUMMARY:Melrose Dance for Community
DESCRIPTION:Open Streets Event Alert! \nFrom the Mayor’s office: \n  \nThe family-friendly event\, initiated by the Melrose Human Rights Commission and the Mayor’s DEI Advisory Task Force\, is centered around community re-unification and will feature local artists\, food\, and free Salsa and community dance lessons to bring neighbors together by Melrose resident Jen Earls\, founder of Dance for Humanity. \nMayor Paul Brodeur and Melrose Human Rights Commissioner and Diversity\, Equity\, and Inclusion (DEI) Advisory Task Force Chair Joseph Phillips invite residents to join them for an afternoon of music and dancing at the first-ever Melrose Dance for Community event taking place this Saturday\, October 8\, from 2 p.m.—5 p.m. in front of City Hall on Essex St. Food will be available for purchase during the event. \nThe event provides an opportunity for community members to reunite over good music\, good food\, poetry\, art\, and free salsa and community dance lessons taught by Melrose resident Jen Earls. Earls is the founder of Dance for Humanity\, an organization based around community-building through dance\, and is excited to bring to Melrose her mission of helping people connect with themselves\, each other and the land for greater health\, happiness and wellbeing. \n“Over the last few years\, the global pandemic has taken so much of our attention. It’s time we shift our focus from the pandemic back to each other on a local level\,” said Mayor Brodeur. “Strengthening our community is key to rebuilding Melrose. To do that\, we can start by bringing everyone together for an afternoon of fun. I am grateful to the Human Rights Commission\, as well as Joe Phillips\, Chair of the Melrose DEI Advisory Task Force for his commitment to the Melrose community and for my staff for helping make this event possible.” \n“We recognize the importance of togetherness\, especially after the past few years that we’ve had and the political and pandemic environment we’ve been in that has to some degree divided us within our own communities\,” said Phillips. ” It would be great for the city to come together as one community and celebrate with one another.” \n“Come out and dance with us! Enjoy local art\, food\, music and re-connecting with friends and neighbors. No dance experience needed. All ages and levels welcome! My dance lessons are designed to be a fun\, unifying experience to bring us together in a special way. As humans have done for ages\, there is nothing like dancing together in the streets to strengthen and celebrate ourselves\, each other and this incredible community we all belong to\,” said Earls. \nPlease note that during the event\, Essex St. From 562 Main St. to 23 Essex St. (the Post Office) will be closed to vehicle traffic from 1 p.m. — 6 p.m. and there will be no on-street parking in this area from 12 p.m. — 6 p.m. \nThe event\, which is sponsored by the City of Melrose and the Melrose Human Rights Commission\, will include the vendors Dance for Humanity\, Michelle La Poetica Richardson\, DJ Fritz\, Clovers Kitchen\, C.R.E.A.M.\, Mud Dove Pottery\, Elysian Design\, Rahimgrayart among others. \nPlease contact the Mayor’s Office with any questions by emailing mayorsoffice@cityofmelrose.org or by calling 781-979-4440. \n  \n 
URL:https://pedbikemelrose.org/event/melrose-dance-for-community/
LOCATION:Melrose City Hall\, 562 Main St\, Melrose\, MA\, 02176\, United States
CATEGORIES:Local Events
END:VEVENT
BEGIN:VEVENT
DTSTART;TZID=America/New_York:20220911T080000
DTEND;TZID=America/New_York:20220911T150000
DTSTAMP:20260423T090256
CREATED:20220802T151030Z
LAST-MODIFIED:20220802T151030Z
UID:671-1662883200-1662908400@pedbikemelrose.org
SUMMARY:Victorian Fair - Valet Bike Parking!
DESCRIPTION:Riding your bike to the Victorian Fair\, but not sure where to lock it up? Stop by our booth at the corner of Main & East Emerson! We’ll park it for you and give you a valet ticket. When you’re ready to leave\, just hand the ticket back and we’ll get your bike for you!
URL:https://pedbikemelrose.org/event/victorian-fair-valet-bike-parking/
LOCATION:Melrose YMCA\, 497 Main Street\, Melrose\, MA\, 02176\, United States
CATEGORIES:Local Events
ORGANIZER;CN="Melrose Chamber of Commerce":MAILTO:info@melrosechamber.org
END:VEVENT
BEGIN:VEVENT
DTSTART;TZID=America/New_York:20220820T100000
DTEND;TZID=America/New_York:20220820T120000
DTSTAMP:20260423T090256
CREATED:20220802T150439Z
LAST-MODIFIED:20220812T004638Z
UID:667-1660989600-1660996800@pedbikemelrose.org
SUMMARY:Sustainable Saturdays: Repair and Re-Use
DESCRIPTION:We’re proud to join Zero Waste Melrose for their “Sustainable Saturdays” as part of their session on minimizing embodied carbon emissions by repairing and re-using\, instead of throwing out what you already have. \nSIGN UP HERE to grab a slot for a 15-minute bike tune-up\, and keep it riding good as new!
URL:https://pedbikemelrose.org/event/sustainable-saturdays-repair-and-re-use/
LOCATION:Melrose YMCA\, 497 Main Street\, Melrose\, MA\, 02176\, United States
CATEGORIES:Local Events
ATTACH;FMTTYPE=image/png:https://pedbikemelrose.org/wp-content/uploads/2022/08/image-3.png
END:VEVENT
BEGIN:VEVENT
DTSTART;TZID=America/New_York:20220424T103000
DTEND;TZID=America/New_York:20220424T120000
DTSTAMP:20260423T090256
CREATED:20220421T162834Z
LAST-MODIFIED:20220421T162958Z
UID:618-1650796200-1650801600@pedbikemelrose.org
SUMMARY:All-Ages Earth Week Ride
DESCRIPTION:In honor of #EarthWeek\, we are hosting a little all-ages bike ride at 10:30am. We will be taking a low-stress group ride around Melrose\, starting from the High School Parking lot. We can’t wait to see you there! You can RSVP at the below link: \nhttps://www.eventbrite.com/e/all-ages-bike-ride-for-city-of-melrose-earth-week-tickets-321941043327
URL:https://pedbikemelrose.org/event/all-ages-earth-week-ride/
LOCATION:Melrose High School\, 360 Lynn Fells Parkway\, Melrose\, MA\, 02176\, United States
CATEGORIES:Local Events
ATTACH;FMTTYPE=image/jpeg:https://pedbikemelrose.org/wp-content/uploads/2022/04/https-_cdn.evbuc_.com_images_267783039_911670299783_1_original.20220416-005628.jpg
END:VEVENT
END:VCALENDAR