BEGIN:VCALENDAR
VERSION:2.0
PRODID:-//Ped/Bike Melrose - ECPv6.15.20//NONSGML v1.0//EN
CALSCALE:GREGORIAN
METHOD:PUBLISH
X-WR-CALNAME:Ped/Bike Melrose
X-ORIGINAL-URL:https://pedbikemelrose.org
X-WR-CALDESC:Events for Ped/Bike Melrose
REFRESH-INTERVAL;VALUE=DURATION:PT1H
X-Robots-Tag:noindex
X-PUBLISHED-TTL:PT1H
BEGIN:VTIMEZONE
TZID:America/New_York
BEGIN:DAYLIGHT
TZOFFSETFROM:-0500
TZOFFSETTO:-0400
TZNAME:EDT
DTSTART:20200308T070000
END:DAYLIGHT
BEGIN:STANDARD
TZOFFSETFROM:-0400
TZOFFSETTO:-0500
TZNAME:EST
DTSTART:20201101T060000
END:STANDARD
BEGIN:DAYLIGHT
TZOFFSETFROM:-0500
TZOFFSETTO:-0400
TZNAME:EDT
DTSTART:20210314T070000
END:DAYLIGHT
BEGIN:STANDARD
TZOFFSETFROM:-0400
TZOFFSETTO:-0500
TZNAME:EST
DTSTART:20211107T060000
END:STANDARD
BEGIN:DAYLIGHT
TZOFFSETFROM:-0500
TZOFFSETTO:-0400
TZNAME:EDT
DTSTART:20220313T070000
END:DAYLIGHT
BEGIN:STANDARD
TZOFFSETFROM:-0400
TZOFFSETTO:-0500
TZNAME:EST
DTSTART:20221106T060000
END:STANDARD
BEGIN:DAYLIGHT
TZOFFSETFROM:-0500
TZOFFSETTO:-0400
TZNAME:EDT
DTSTART:20230312T070000
END:DAYLIGHT
BEGIN:STANDARD
TZOFFSETFROM:-0400
TZOFFSETTO:-0500
TZNAME:EST
DTSTART:20231105T060000
END:STANDARD
BEGIN:DAYLIGHT
TZOFFSETFROM:-0500
TZOFFSETTO:-0400
TZNAME:EDT
DTSTART:20240310T070000
END:DAYLIGHT
BEGIN:STANDARD
TZOFFSETFROM:-0400
TZOFFSETTO:-0500
TZNAME:EST
DTSTART:20241103T060000
END:STANDARD
END:VTIMEZONE
BEGIN:VEVENT
DTSTART;TZID=America/New_York:20231004T190000
DTEND;TZID=America/New_York:20231004T200000
DTSTAMP:20260423T111232
CREATED:20231002T232830Z
LAST-MODIFIED:20231002T232830Z
UID:814-1696446000-1696449600@pedbikemelrose.org
SUMMARY:Monthly Meeting: October 2023
DESCRIPTION:Do YOU have an interest in helping make the streets in your neighborhood\, and around the city\, safer and friendlier for people of all ages and abilities? Then you belong! Please join us at our monthly meeting to learn what we’ve been working on and to share your ideas!\n\nMeetings are hybrid format – message us for Zoom details\, or sign up to receive meeting notices at our website: https://pedbikemelrose.org/contact-us/
URL:https://pedbikemelrose.org/event/monthly-meeting-october-2023/
LOCATION:Leading Edge Real Estate – Community Space\, 536 Main St\, Melrose\, MA\, 02176\, United States
CATEGORIES:Ped/Bike Monthly Meetings
ATTACH;FMTTYPE=image/jpeg:https://pedbikemelrose.org/wp-content/uploads/2023/07/meeting_loop.jpg
END:VEVENT
BEGIN:VEVENT
DTSTART;TZID=America/New_York:20230906T190000
DTEND;TZID=America/New_York:20230906T200000
DTSTAMP:20260423T111232
CREATED:20230818T152432Z
LAST-MODIFIED:20230818T152432Z
UID:812-1694026800-1694030400@pedbikemelrose.org
SUMMARY:Monthly Meeting: September 2023
DESCRIPTION:Do YOU have an interest in helping make the streets in your neighborhood\, and around the city\, safer and friendlier for people of all ages and abilities? Then you belong! Please join us at our monthly meeting to learn what we’ve been working on and to share your ideas!\n\nMeetings are hybrid format – message us for Zoom details\, or sign up to receive meeting notices at our website: https://pedbikemelrose.org/contact-us/
URL:https://pedbikemelrose.org/event/monthly-meeting-september-2023/
LOCATION:The Loop\, 171 Tremont St\, Melrose\, 02176\, United States
CATEGORIES:Ped/Bike Monthly Meetings
ATTACH;FMTTYPE=image/jpeg:https://pedbikemelrose.org/wp-content/uploads/2023/07/meeting_loop.jpg
END:VEVENT
BEGIN:VEVENT
DTSTART;TZID=America/New_York:20230801T190000
DTEND;TZID=America/New_York:20230801T200000
DTSTAMP:20260423T111232
CREATED:20230725T003907Z
LAST-MODIFIED:20230725T003907Z
UID:808-1690916400-1690920000@pedbikemelrose.org
SUMMARY:Monthly Meeting: August 2023
DESCRIPTION:Do YOU have an interest in helping make the streets in your neighborhood\, and around the city\, safer and friendlier for people of all ages and abilities? Then you belong! Please join us at our monthly meeting to learn what we’ve been working on and to share your ideas!\n\nMeetings are hybrid format – message us for Zoom details\, or sign up to receive meeting notices at our website: https://pedbikemelrose.org/contact-us/
URL:https://pedbikemelrose.org/event/monthly-meeting-august-2023/
LOCATION:The Loop\, 171 Tremont St\, Melrose\, 02176\, United States
CATEGORIES:Ped/Bike Monthly Meetings
ATTACH;FMTTYPE=image/jpeg:https://pedbikemelrose.org/wp-content/uploads/2023/07/meeting_loop.jpg
END:VEVENT
BEGIN:VEVENT
DTSTART;TZID=America/New_York:20230713T190000
DTEND;TZID=America/New_York:20230713T200000
DTSTAMP:20260423T111232
CREATED:20230601T012151Z
LAST-MODIFIED:20230712T162742Z
UID:795-1689274800-1689278400@pedbikemelrose.org
SUMMARY:Monthly Meeting: July 2023
DESCRIPTION:Do YOU have an interest in helping make the streets in your neighborhood\, and around the city\, safer and friendlier for people of all ages and abilities? Then you belong! Please join us at our monthly meeting to learn what we’ve been working on and to share your ideas!\n\nMessage us for Zoom details\, or sign up to receive meeting notices at our website: https://pedbikemelrose.org/contact-us/
URL:https://pedbikemelrose.org/event/monthly-meeting-july-2023/
LOCATION:Zoom (contact us for details)
CATEGORIES:Ped/Bike Monthly Meetings
ATTACH;FMTTYPE=image/jpeg:https://pedbikemelrose.org/wp-content/uploads/2023/05/loop-meeting.jpg
END:VEVENT
BEGIN:VEVENT
DTSTART;TZID=America/New_York:20230504T190000
DTEND;TZID=America/New_York:20230504T200000
DTSTAMP:20260423T111232
CREATED:20230104T203700Z
LAST-MODIFIED:20230104T203700Z
UID:751-1683226800-1683230400@pedbikemelrose.org
SUMMARY:Monthly Meeting: May 2023
DESCRIPTION:Do YOU have an interest in helping make the streets in your neighborhood\, and around the city\, safer and friendlier for people of all ages and abilities? Then you belong! Please join us at our monthly meeting to learn what we’ve been working on and to share your ideas!\n\nMessage us for Zoom details\, or sign up to receive meeting notices at our website: https://pedbikemelrose.org/contact-us/
URL:https://pedbikemelrose.org/event/monthly-meeting-may-2023/
LOCATION:Zoom (contact us for details)
CATEGORIES:Ped/Bike Monthly Meetings
ATTACH;FMTTYPE=image/jpeg:https://pedbikemelrose.org/wp-content/uploads/2020/11/87864585_1617703005037455_9190575756776833024_o.jpg
END:VEVENT
BEGIN:VEVENT
DTSTART;TZID=America/New_York:20230413T190000
DTEND;TZID=America/New_York:20230413T200000
DTSTAMP:20260423T111232
CREATED:20230104T202428Z
LAST-MODIFIED:20230224T141844Z
UID:749-1681412400-1681416000@pedbikemelrose.org
SUMMARY:Monthly Meeting: April 2023
DESCRIPTION:** MOVED TO APRIL 13TH DUE TO PASSOVER ** \nDo YOU have an interest in helping make the streets in your neighborhood\, and around the city\, safer and friendlier for people of all ages and abilities? Then you belong! Please join us at our monthly meeting to learn what we’ve been working on and to share your ideas! \n\nMessage us for Zoom details\, or sign up to receive meeting notices at our website: https://pedbikemelrose.org/contact-us/
URL:https://pedbikemelrose.org/event/monthly-meeting-april-2023/
LOCATION:Zoom (contact us for details)
CATEGORIES:Ped/Bike Monthly Meetings
ATTACH;FMTTYPE=image/jpeg:https://pedbikemelrose.org/wp-content/uploads/2020/11/87864585_1617703005037455_9190575756776833024_o.jpg
END:VEVENT
BEGIN:VEVENT
DTSTART;TZID=America/New_York:20230302T190000
DTEND;TZID=America/New_York:20230302T200000
DTSTAMP:20260423T111232
CREATED:20230104T202301Z
LAST-MODIFIED:20230104T202301Z
UID:746-1677783600-1677787200@pedbikemelrose.org
SUMMARY:Monthly Meeting: March 2023
DESCRIPTION:Do YOU have an interest in helping make the streets in your neighborhood\, and around the city\, safer and friendlier for people of all ages and abilities? Then you belong! Please join us at our monthly meeting to learn what we’ve been working on and to share your ideas!\n\nMessage us for Zoom details\, or sign up to receive meeting notices at our website: https://pedbikemelrose.org/contact-us/
URL:https://pedbikemelrose.org/event/monthly-meeting-march-2023/
LOCATION:Zoom (contact us for details)
CATEGORIES:Ped/Bike Monthly Meetings
ATTACH;FMTTYPE=image/jpeg:https://pedbikemelrose.org/wp-content/uploads/2020/11/87864585_1617703005037455_9190575756776833024_o.jpg
END:VEVENT
BEGIN:VEVENT
DTSTART;TZID=America/New_York:20230202T190000
DTEND;TZID=America/New_York:20230202T200000
DTSTAMP:20260423T111232
CREATED:20230104T202153Z
LAST-MODIFIED:20230104T202153Z
UID:744-1675364400-1675368000@pedbikemelrose.org
SUMMARY:Monthly Meeting: February 2023
DESCRIPTION:Do YOU have an interest in helping make the streets in your neighborhood\, and around the city\, safer and friendlier for people of all ages and abilities? Then you belong! Please join us at our monthly meeting to learn what we’ve been working on and to share your ideas!\n\nMessage us for Zoom details\, or sign up to receive meeting notices at our website: https://pedbikemelrose.org/contact-us/
URL:https://pedbikemelrose.org/event/monthly-meeting-february-2023/
LOCATION:Zoom (contact us for details)
CATEGORIES:Ped/Bike Monthly Meetings
ATTACH;FMTTYPE=image/jpeg:https://pedbikemelrose.org/wp-content/uploads/2020/11/87864585_1617703005037455_9190575756776833024_o.jpg
END:VEVENT
BEGIN:VEVENT
DTSTART;TZID=America/New_York:20230105T190000
DTEND;TZID=America/New_York:20230105T200000
DTSTAMP:20260423T111232
CREATED:20230104T202044Z
LAST-MODIFIED:20230104T202044Z
UID:742-1672945200-1672948800@pedbikemelrose.org
SUMMARY:Monthly Meeting: January 2023
DESCRIPTION:Do YOU have an interest in helping make the streets in your neighborhood\, and around the city\, safer and friendlier for people of all ages and abilities? Then you belong! Please join us at our monthly meeting to learn what we’ve been working on and to share your ideas!\n\nMessage us for Zoom details\, or sign up to receive meeting notices at our website: https://pedbikemelrose.org/contact-us/
URL:https://pedbikemelrose.org/event/monthly-meeting-january-2023/
LOCATION:Zoom (contact us for details)
CATEGORIES:Ped/Bike Monthly Meetings
ATTACH;FMTTYPE=image/jpeg:https://pedbikemelrose.org/wp-content/uploads/2020/11/87864585_1617703005037455_9190575756776833024_o.jpg
END:VEVENT
BEGIN:VEVENT
DTSTART;TZID=America/New_York:20221201T190000
DTEND;TZID=America/New_York:20221201T200000
DTSTAMP:20260423T111232
CREATED:20221201T162539Z
LAST-MODIFIED:20221201T162539Z
UID:732-1669921200-1669924800@pedbikemelrose.org
SUMMARY:Monthly Meeting: December 2022
DESCRIPTION:Do YOU have an interest in helping make the streets in your neighborhood\, and around the city\, safer and friendlier for people of all ages and abilities? Then you belong! Please join us at our monthly meeting to learn what we’ve been working on and to share your ideas!\n\nMessage us for Zoom details\, or sign up to receive meeting notices at our website: https://pedbikemelrose.org/contact-us/
URL:https://pedbikemelrose.org/event/monthly-meeting-december-2022/
LOCATION:Zoom (contact us for details)
CATEGORIES:Ped/Bike Monthly Meetings
ATTACH;FMTTYPE=image/jpeg:https://pedbikemelrose.org/wp-content/uploads/2020/11/87864585_1617703005037455_9190575756776833024_o.jpg
END:VEVENT
BEGIN:VEVENT
DTSTART;TZID=America/New_York:20221103T190000
DTEND;TZID=America/New_York:20221103T200000
DTSTAMP:20260423T111232
CREATED:20221004T191848Z
LAST-MODIFIED:20221004T191848Z
UID:709-1667502000-1667505600@pedbikemelrose.org
SUMMARY:Monthly Meeting: November 2022
DESCRIPTION:Do YOU have an interest in helping make the streets in your neighborhood\, and around the city\, safer and friendlier for people of all ages and abilities? Then you belong! Please join us at our monthly meeting to learn what we’ve been working on and to share your ideas!\n\nMessage us for Zoom details\, or sign up to receive meeting notices at our website: https://pedbikemelrose.org/contact-us/
URL:https://pedbikemelrose.org/event/monthly-meeting-november-2022/
LOCATION:Zoom (contact us for details)
CATEGORIES:Ped/Bike Monthly Meetings
ATTACH;FMTTYPE=image/jpeg:https://pedbikemelrose.org/wp-content/uploads/2020/11/87864585_1617703005037455_9190575756776833024_o.jpg
END:VEVENT
BEGIN:VEVENT
DTSTART;TZID=America/New_York:20221006T190000
DTEND;TZID=America/New_York:20221006T200000
DTSTAMP:20260423T111232
CREATED:20221004T190935Z
LAST-MODIFIED:20221004T190935Z
UID:706-1665082800-1665086400@pedbikemelrose.org
SUMMARY:Monthly Meeting: October 2022
DESCRIPTION:Do YOU have an interest in helping make the streets in your neighborhood\, and around the city\, safer and friendlier for people of all ages and abilities? Then you belong! Please join us at our monthly meeting to learn what we’ve been working on and to share your ideas!\n\nMessage us for Zoom details\, or sign up to receive meeting notices at our website: https://pedbikemelrose.org/contact-us/
URL:https://pedbikemelrose.org/event/monthly-meeting-october-2022/
LOCATION:Zoom (contact us for details)
CATEGORIES:Ped/Bike Monthly Meetings
ATTACH;FMTTYPE=image/jpeg:https://pedbikemelrose.org/wp-content/uploads/2020/11/87864585_1617703005037455_9190575756776833024_o.jpg
END:VEVENT
BEGIN:VEVENT
DTSTART;TZID=America/New_York:20220901T190000
DTEND;TZID=America/New_York:20220901T200000
DTSTAMP:20260423T111232
CREATED:20220616T134335Z
LAST-MODIFIED:20220616T134335Z
UID:654-1662058800-1662062400@pedbikemelrose.org
SUMMARY:Monthly Meeting: September 2022
DESCRIPTION:Do YOU have an interest in helping make the streets in your neighborhood\, and around the city\, safer and friendlier for people of all ages and abilities? Then you belong! Please join us at our monthly meeting to learn what we’ve been working on and to share your ideas!\n\nMessage us for Zoom details\, or sign up to receive meeting notices at our website: https://pedbikemelrose.org/contact-us/
URL:https://pedbikemelrose.org/event/monthly-meeting-september-2022/
LOCATION:Zoom (contact us for details)
CATEGORIES:Ped/Bike Monthly Meetings
ATTACH;FMTTYPE=image/jpeg:https://pedbikemelrose.org/wp-content/uploads/2020/11/87864585_1617703005037455_9190575756776833024_o.jpg
END:VEVENT
BEGIN:VEVENT
DTSTART;TZID=America/New_York:20220804T190000
DTEND;TZID=America/New_York:20220804T200000
DTSTAMP:20260423T111232
CREATED:20220616T134219Z
LAST-MODIFIED:20220616T134219Z
UID:652-1659639600-1659643200@pedbikemelrose.org
SUMMARY:Monthly Meeting: August 2022
DESCRIPTION:Do YOU have an interest in helping make the streets in your neighborhood\, and around the city\, safer and friendlier for people of all ages and abilities? Then you belong! Please join us at our monthly meeting to learn what we’ve been working on and to share your ideas!\n\nMessage us for Zoom details\, or sign up to receive meeting notices at our website: https://pedbikemelrose.org/contact-us/
URL:https://pedbikemelrose.org/event/monthly-meeting-august-2022/
LOCATION:Zoom (contact us for details)
CATEGORIES:Ped/Bike Monthly Meetings
ATTACH;FMTTYPE=image/jpeg:https://pedbikemelrose.org/wp-content/uploads/2020/11/87864585_1617703005037455_9190575756776833024_o.jpg
END:VEVENT
BEGIN:VEVENT
DTSTART;TZID=America/New_York:20220707T190000
DTEND;TZID=America/New_York:20220707T200000
DTSTAMP:20260423T111232
CREATED:20220616T134114Z
LAST-MODIFIED:20220616T134114Z
UID:650-1657220400-1657224000@pedbikemelrose.org
SUMMARY:Monthly Meeting: July 2022
DESCRIPTION:Do YOU have an interest in helping make the streets in your neighborhood\, and around the city\, safer and friendlier for people of all ages and abilities? Then you belong! Please join us at our monthly meeting to learn what we’ve been working on and to share your ideas!\n\nMessage us for Zoom details\, or sign up to receive meeting notices at our website: https://pedbikemelrose.org/contact-us/
URL:https://pedbikemelrose.org/event/monthly-meeting-july-2022/
CATEGORIES:Ped/Bike Monthly Meetings
ATTACH;FMTTYPE=image/jpeg:https://pedbikemelrose.org/wp-content/uploads/2020/11/87864585_1617703005037455_9190575756776833024_o.jpg
END:VEVENT
BEGIN:VEVENT
DTSTART;TZID=America/New_York:20220602T190000
DTEND;TZID=America/New_York:20220602T190000
DTSTAMP:20260423T111232
CREATED:20220306T142349Z
LAST-MODIFIED:20220306T142349Z
UID:579-1654196400-1654196400@pedbikemelrose.org
SUMMARY:Monthly Meeting: June 2022
DESCRIPTION:Do YOU have an interest in helping make the streets in your neighborhood\, and around the city\, safer and friendlier for people of all ages and abilities? Then you belong! Please join us at our monthly meeting to learn what we’ve been working on and to share your ideas! \nTo be informed of meeting details and future events\, click here and sign up for our mailing list.
URL:https://pedbikemelrose.org/event/monthly-meeting-june-2022/
LOCATION:Zoom (contact us for details)
CATEGORIES:Ped/Bike Monthly Meetings
ATTACH;FMTTYPE=image/jpeg:https://pedbikemelrose.org/wp-content/uploads/2020/11/87864585_1617703005037455_9190575756776833024_o.jpg
END:VEVENT
BEGIN:VEVENT
DTSTART;TZID=America/New_York:20220512T190000
DTEND;TZID=America/New_York:20220512T200000
DTSTAMP:20260423T111232
CREATED:20220306T142226Z
LAST-MODIFIED:20220505T013801Z
UID:577-1652382000-1652385600@pedbikemelrose.org
SUMMARY:Monthly Meeting: May 2022
DESCRIPTION:Do YOU have an interest in helping make the streets in your neighborhood\, and around the city\, safer and friendlier for people of all ages and abilities? Then you belong! Please join us at our monthly meeting to learn what we’ve been working on and to share your ideas! \nTo be informed of meeting details and future events\, click here and sign up for our mailing list.
URL:https://pedbikemelrose.org/event/monthly-meeting-may-2022/
LOCATION:Zoom (contact us for details)
CATEGORIES:Ped/Bike Monthly Meetings
ATTACH;FMTTYPE=image/jpeg:https://pedbikemelrose.org/wp-content/uploads/2020/11/87864585_1617703005037455_9190575756776833024_o.jpg
END:VEVENT
BEGIN:VEVENT
DTSTART;TZID=America/New_York:20220407T190000
DTEND;TZID=America/New_York:20220407T200000
DTSTAMP:20260423T111232
CREATED:20220306T142053Z
LAST-MODIFIED:20220306T142053Z
UID:575-1649358000-1649361600@pedbikemelrose.org
SUMMARY:Monthly Meeting: April 2022
DESCRIPTION:Do YOU have an interest in helping make the streets in your neighborhood\, and around the city\, safer and friendlier for people of all ages and abilities? Then you belong! Please join us at our monthly meeting to learn what we’ve been working on and to share your ideas! \nTo be informed of meeting details and future events\, click here and sign up for our mailing list.
URL:https://pedbikemelrose.org/event/monthly-meeting-april-2022/
LOCATION:Zoom (contact us for details)
CATEGORIES:Ped/Bike Monthly Meetings
ATTACH;FMTTYPE=image/jpeg:https://pedbikemelrose.org/wp-content/uploads/2020/11/87864585_1617703005037455_9190575756776833024_o.jpg
END:VEVENT
BEGIN:VEVENT
DTSTART;TZID=America/New_York:20220303T190000
DTEND;TZID=America/New_York:20220303T200000
DTSTAMP:20260423T111232
CREATED:20220227T160540Z
LAST-MODIFIED:20220227T160540Z
UID:568-1646334000-1646337600@pedbikemelrose.org
SUMMARY:Monthly Meeting: March 2022
DESCRIPTION:Do YOU have an interest in helping make the streets in your neighborhood\, and around the city\, safer and friendlier for people of all ages and abilities? Then you belong! Please join us at our monthly meeting to learn what we’ve been working on and to share your ideas!\n\nMessage us for Zoom details\, or sign up to receive meeting notices here:\nContact Us
URL:https://pedbikemelrose.org/event/monthly-meeting-march-2022/
LOCATION:Zoom (contact us for details)
CATEGORIES:Ped/Bike Monthly Meetings
ATTACH;FMTTYPE=image/jpeg:https://pedbikemelrose.org/wp-content/uploads/2020/11/87864585_1617703005037455_9190575756776833024_o.jpg
END:VEVENT
BEGIN:VEVENT
DTSTART;TZID=America/New_York:20220203T190000
DTEND;TZID=America/New_York:20220203T200000
DTSTAMP:20260423T111232
CREATED:20211201T150643Z
LAST-MODIFIED:20211201T150643Z
UID:525-1643914800-1643918400@pedbikemelrose.org
SUMMARY:Monthly Meeting: February 2022
DESCRIPTION:Do YOU have an interest in helping make the streets in your neighborhood\, and around the city\, safer and friendlier for people of all ages and abilities? Then you belong! Please join us at our monthly meeting to learn what we’ve been working on and to share your ideas!\n\nMessage us for Zoom details\, or sign up to receive meeting notices at our website: https://pedbikemelrose.org/?page_id=62
URL:https://pedbikemelrose.org/event/monthly-meeting-february-2022/
LOCATION:Zoom (contact us for details)
CATEGORIES:Ped/Bike Monthly Meetings
ATTACH;FMTTYPE=image/jpeg:https://pedbikemelrose.org/wp-content/uploads/2020/11/87864585_1617703005037455_9190575756776833024_o.jpg
END:VEVENT
BEGIN:VEVENT
DTSTART;TZID=America/New_York:20220106T190000
DTEND;TZID=America/New_York:20220106T200000
DTSTAMP:20260423T111232
CREATED:20211201T150546Z
LAST-MODIFIED:20211201T150659Z
UID:523-1641495600-1641499200@pedbikemelrose.org
SUMMARY:Monthly Meeting: January 2022
DESCRIPTION:Do YOU have an interest in helping make the streets in your neighborhood\, and around the city\, safer and friendlier for people of all ages and abilities? Then you belong! Please join us at our monthly meeting to learn what we’ve been working on and to share your ideas!\n\nMessage us for Zoom details\, or sign up to receive meeting notices at our website: https://pedbikemelrose.org/?page_id=62
URL:https://pedbikemelrose.org/event/monthly-meeting-january-2022/
LOCATION:Zoom (contact us for details)
CATEGORIES:Ped/Bike Monthly Meetings
ATTACH;FMTTYPE=image/jpeg:https://pedbikemelrose.org/wp-content/uploads/2020/11/87864585_1617703005037455_9190575756776833024_o.jpg
END:VEVENT
BEGIN:VEVENT
DTSTART;TZID=America/New_York:20210902T190000
DTEND;TZID=America/New_York:20210902T200000
DTSTAMP:20260423T111232
CREATED:20210902T011417Z
LAST-MODIFIED:20210902T011417Z
UID:484-1630609200-1630612800@pedbikemelrose.org
SUMMARY:Monthly Meeting: September 2021
DESCRIPTION:Do YOU have an interest in helping make the streets in your neighborhood\, and around the city\, safer and friendlier for people of all ages and abilities? Then you belong! Please join us at our monthly meeting to learn what we’ve been working on and to share your ideas!\n\nMessage us for Zoom details\, or sign up to receive meeting notices at our website: https://pedbikemelrose.org/?page_id=62
URL:https://pedbikemelrose.org/event/monthly-meeting-september-2021/
LOCATION:Zoom (contact us for details)
CATEGORIES:Ped/Bike Monthly Meetings
END:VEVENT
BEGIN:VEVENT
DTSTART;TZID=America/New_York:20210805T190000
DTEND;TZID=America/New_York:20210805T200000
DTSTAMP:20260423T111232
CREATED:20210804T020937Z
LAST-MODIFIED:20210804T020937Z
UID:471-1628190000-1628193600@pedbikemelrose.org
SUMMARY:Monthly Meeting
DESCRIPTION:Do YOU have an interest in helping make the streets in your neighborhood\, and around the city\, safer and friendlier for people of all ages and abilities? Then you belong! Please join us at our monthly meeting to learn what we’ve been working on and to share your ideas!\n\nMessage us for Zoom details\, or sign up to receive meeting notices at our website: https://pedbikemelrose.org/?page_id=62
URL:https://pedbikemelrose.org/event/monthly-meeting/
LOCATION:Zoom (contact us for details)
CATEGORIES:Ped/Bike Monthly Meetings
END:VEVENT
BEGIN:VEVENT
DTSTART;TZID=America/New_York:20210506T190000
DTEND;TZID=America/New_York:20210506T203000
DTSTAMP:20260423T111232
CREATED:20210422T120558Z
LAST-MODIFIED:20210504T143117Z
UID:380-1620327600-1620333000@pedbikemelrose.org
SUMMARY:Monthly Meeting: May 2021
DESCRIPTION:Hey friend! Do YOU have ideas for making the streets of Melrose safer and more people-friendly? Then you belong at our next monthly meeting. Whether it’s your first or your fiftieth\, PLEASE stop by and join the conversation to share your thoughts\, or to just listen to what we’re working on. We can’t wait to see you! Drop us a line if you need a link to the Zoom registration.
URL:https://pedbikemelrose.org/event/monthly-meeting-may-2021/
LOCATION:Zoom (contact us for details)
CATEGORIES:Ped/Bike Monthly Meetings
ATTACH;FMTTYPE=image/jpeg:https://pedbikemelrose.org/wp-content/uploads/2020/10/EkZmt9wXoAA7CaC.jpg
END:VEVENT
END:VCALENDAR