BEGIN:VCALENDAR
VERSION:2.0
PRODID:-//Ped/Bike Melrose - ECPv6.15.20//NONSGML v1.0//EN
CALSCALE:GREGORIAN
METHOD:PUBLISH
X-WR-CALNAME:Ped/Bike Melrose
X-ORIGINAL-URL:https://pedbikemelrose.org
X-WR-CALDESC:Events for Ped/Bike Melrose
REFRESH-INTERVAL;VALUE=DURATION:PT1H
X-Robots-Tag:noindex
X-PUBLISHED-TTL:PT1H
BEGIN:VTIMEZONE
TZID:America/New_York
BEGIN:DAYLIGHT
TZOFFSETFROM:-0500
TZOFFSETTO:-0400
TZNAME:EDT
DTSTART:20210314T070000
END:DAYLIGHT
BEGIN:STANDARD
TZOFFSETFROM:-0400
TZOFFSETTO:-0500
TZNAME:EST
DTSTART:20211107T060000
END:STANDARD
BEGIN:DAYLIGHT
TZOFFSETFROM:-0500
TZOFFSETTO:-0400
TZNAME:EDT
DTSTART:20220313T070000
END:DAYLIGHT
BEGIN:STANDARD
TZOFFSETFROM:-0400
TZOFFSETTO:-0500
TZNAME:EST
DTSTART:20221106T060000
END:STANDARD
BEGIN:DAYLIGHT
TZOFFSETFROM:-0500
TZOFFSETTO:-0400
TZNAME:EDT
DTSTART:20230312T070000
END:DAYLIGHT
BEGIN:STANDARD
TZOFFSETFROM:-0400
TZOFFSETTO:-0500
TZNAME:EST
DTSTART:20231105T060000
END:STANDARD
END:VTIMEZONE
BEGIN:VEVENT
DTSTART;TZID=America/New_York:20220821T110000
DTEND;TZID=America/New_York:20220821T143000
DTSTAMP:20260425T220708
CREATED:20220818T142117Z
LAST-MODIFIED:20220818T142117Z
UID:677-1661079600-1661092200@pedbikemelrose.org
SUMMARY:Practice Group Ride for the Orange Line Shutdown - Oak Grove to Downtown
DESCRIPTION:Are you considering bike commuting during the Orange Line shutdown but feel nervous about biking to Boston for the first time? Join our group bike ride from Oak Grove to Downtown Boston on August 21st at 11am! \nThis will be a casual\, slow-paced ride designed for first-time riders. We will also have trained marshals leading the ride to ensure everyone’s safety. Please invite anyone you know who is considering biking around Boston for the first time during the shutdown! \nFeel free to hang out at the first Open Newbury Street of the season after the ride! More info here: https://www.boston.gov/departments/transportation/open-newbury-street \nHere is the route: https://ridewithgps.com/routes/40592710
URL:https://pedbikemelrose.org/event/practice-group-ride-for-the-orange-line-shutdown-oak-grove-to-downtown/
LOCATION:Oak Grove Pedal & Park\, 93 Banks Place\, Malden\, MA\, 02148\, United States
CATEGORIES:Regional Events
ATTACH;FMTTYPE=image/jpeg:https://pedbikemelrose.org/wp-content/uploads/2022/08/i-PPgrHMX.jpg
ORGANIZER;CN="Boston Cyclists Union":MAILTO:info@bostoncyclistsunion.org
END:VEVENT
END:VCALENDAR