BEGIN:VCALENDAR
VERSION:2.0
PRODID:-//Ped/Bike Melrose - ECPv6.15.20//NONSGML v1.0//EN
CALSCALE:GREGORIAN
METHOD:PUBLISH
X-ORIGINAL-URL:https://pedbikemelrose.org
X-WR-CALDESC:Events for Ped/Bike Melrose
REFRESH-INTERVAL;VALUE=DURATION:PT1H
X-Robots-Tag:noindex
X-PUBLISHED-TTL:PT1H
BEGIN:VTIMEZONE
TZID:America/New_York
BEGIN:DAYLIGHT
TZOFFSETFROM:-0500
TZOFFSETTO:-0400
TZNAME:EDT
DTSTART:20240310T070000
END:DAYLIGHT
BEGIN:STANDARD
TZOFFSETFROM:-0400
TZOFFSETTO:-0500
TZNAME:EST
DTSTART:20241103T060000
END:STANDARD
BEGIN:DAYLIGHT
TZOFFSETFROM:-0500
TZOFFSETTO:-0400
TZNAME:EDT
DTSTART:20250309T070000
END:DAYLIGHT
BEGIN:STANDARD
TZOFFSETFROM:-0400
TZOFFSETTO:-0500
TZNAME:EST
DTSTART:20251102T060000
END:STANDARD
BEGIN:DAYLIGHT
TZOFFSETFROM:-0500
TZOFFSETTO:-0400
TZNAME:EDT
DTSTART:20260308T070000
END:DAYLIGHT
BEGIN:STANDARD
TZOFFSETFROM:-0400
TZOFFSETTO:-0500
TZNAME:EST
DTSTART:20261101T060000
END:STANDARD
BEGIN:DAYLIGHT
TZOFFSETFROM:-0500
TZOFFSETTO:-0400
TZNAME:EDT
DTSTART:20270314T070000
END:DAYLIGHT
BEGIN:STANDARD
TZOFFSETFROM:-0400
TZOFFSETTO:-0500
TZNAME:EST
DTSTART:20271107T060000
END:STANDARD
END:VTIMEZONE
BEGIN:VEVENT
DTSTART;TZID=America/New_York:20250116T190000
DTEND;TZID=America/New_York:20250116T200000
DTSTAMP:20260424T112132
CREATED:20250119T001304Z
LAST-MODIFIED:20250119T001304Z
UID:901-1737054000-1737057600@pedbikemelrose.org
SUMMARY:Monthly Meeting: January 2025
DESCRIPTION:Do YOU have an interest in helping make the streets in your neighborhood\, and around the city\, safer and friendlier for people of all ages and abilities? Then you belong! Please join us at our monthly meeting to learn what we’ve been working on and to share your ideas!\n\nMeetings are hybrid format – message us for Zoom details\, or sign up to receive meeting notices at our website: https://pedbikemelrose.org/contact-us/
URL:https://pedbikemelrose.org/event/monthly-meeting-january-2025/
LOCATION:Leading Edge Real Estate – Community Space\, 536 Main St\, Melrose\, MA\, 02176\, United States
CATEGORIES:Ped/Bike Monthly Meetings
ATTACH;FMTTYPE=image/jpeg:https://pedbikemelrose.org/wp-content/uploads/2024/04/meeting-mainst.jpg
END:VEVENT
BEGIN:VEVENT
DTSTART;TZID=America/New_York:20250217T090000
DTEND;TZID=America/New_York:20250221T090000
DTSTAMP:20260424T112132
CREATED:20250119T002036Z
LAST-MODIFIED:20250119T002036Z
UID:909-1739782800-1740128400@pedbikemelrose.org
SUMMARY:February Break: Kids Learn to Ride!
DESCRIPTION:Our friends at The Ride Cafe are offering a Kids Learn to Ride event during February Break! \n\nWhat’s included\n\nKids Bike Adjustment – we’ll ensure your kids bike is fitting them properly so they are level footed. \nHelmet Fitting – we’ll ensure your kids helmet fits well and make recommendations for a different size\, if needed. \nLesson #1 Learning Goal: Develop balance and coordination and early confidence. \nLesson #2 Learning Goal: Improve steering and braking skills. \nLesson #3 Learning Goal Gliding with One Pedal \nLesson #4 Learning Goal: Pedaling with Two Pedals \nLesson #5 Learning Goal: Street Safety: Learning the Rules of the Road \nIf you have a kiddo who recently learned to pedal\, but needs a confidence booster\, this is the perfect class for them. We’ll split kids up based on skill and confidence level and adjust curriculum accordingly. \nSign up for 3 days and receive a free #MoreKidsonBikes Ride Cafe branded hat.
URL:https://pedbikemelrose.org/event/february-break-kids-learn-to-ride/
LOCATION:The Ride Cafe\, 368 Main St\, Melrose\, MA\, 02176\, United States
CATEGORIES:Local Events
ATTACH;FMTTYPE=image/png:https://pedbikemelrose.org/wp-content/uploads/2025/01/kids-learn-to-ride.png
END:VEVENT
BEGIN:VEVENT
DTSTART;TZID=America/New_York:20250220T190000
DTEND;TZID=America/New_York:20250220T200000
DTSTAMP:20260424T112132
CREATED:20250119T001353Z
LAST-MODIFIED:20250119T001353Z
UID:903-1740078000-1740081600@pedbikemelrose.org
SUMMARY:Monthly Meeting: February 2025
DESCRIPTION:Do YOU have an interest in helping make the streets in your neighborhood\, and around the city\, safer and friendlier for people of all ages and abilities? Then you belong! Please join us at our monthly meeting to learn what we’ve been working on and to share your ideas!\n\nMeetings are hybrid format – message us for Zoom details\, or sign up to receive meeting notices at our website: https://pedbikemelrose.org/contact-us/
URL:https://pedbikemelrose.org/event/monthly-meeting-february-2025/
LOCATION:Leading Edge Real Estate – Community Space\, 536 Main St\, Melrose\, MA\, 02176\, United States
CATEGORIES:Ped/Bike Monthly Meetings
ATTACH;FMTTYPE=image/jpeg:https://pedbikemelrose.org/wp-content/uploads/2024/04/meeting-mainst.jpg
END:VEVENT
BEGIN:VEVENT
DTSTART;TZID=America/New_York:20250301T160000
DTEND;TZID=America/New_York:20250301T180000
DTSTAMP:20260424T112132
CREATED:20250119T002522Z
LAST-MODIFIED:20250119T002522Z
UID:914-1740844800-1740852000@pedbikemelrose.org
SUMMARY:How to Start a Bike Bus
DESCRIPTION:The organizers of the incredible Horace Mann Bike Bus are hosting a seminar on how to start a bike bus at YOUR school! Are you interested in starting a bike bus at your local school? Join us on Saturday\, March 1st at The Ride Cafe to learn more about bike buses! We will talk about important steps to take when starting a bike bus and hear from bike bus organizers from Melrose\, Lexington\, Andover\, and West Roxbury. There is no cost to attend and it is open to anyone and everyone from the Boston area. Come grab a drink from Hannah’s Brewery (located right next door) and talk bike buses with us! RSVP’s are strongly encouraged if you plan on attending.
URL:https://pedbikemelrose.org/event/how-to-start-a-bike-bus/
LOCATION:The Ride Cafe\, 368 Main St\, Melrose\, MA\, 02176\, United States
CATEGORIES:Regional Events
ATTACH;FMTTYPE=image/jpeg:https://pedbikemelrose.org/wp-content/uploads/2025/01/horacemannbikebus.jpg
END:VEVENT
BEGIN:VEVENT
DTSTART;TZID=America/New_York:20250320T190000
DTEND;TZID=America/New_York:20250320T200000
DTSTAMP:20260424T112132
CREATED:20250119T001450Z
LAST-MODIFIED:20250119T001450Z
UID:905-1742497200-1742500800@pedbikemelrose.org
SUMMARY:Monthly Meeting: March 2025
DESCRIPTION:Do YOU have an interest in helping make the streets in your neighborhood\, and around the city\, safer and friendlier for people of all ages and abilities? Then you belong! Please join us at our monthly meeting to learn what we’ve been working on and to share your ideas!\n\nMeetings are hybrid format – message us for Zoom details\, or sign up to receive meeting notices at our website: https://pedbikemelrose.org/contact-us/
URL:https://pedbikemelrose.org/event/monthly-meeting-march-2025/
LOCATION:Leading Edge Real Estate – Community Space\, 536 Main St\, Melrose\, MA\, 02176\, United States
CATEGORIES:Ped/Bike Monthly Meetings
ATTACH;FMTTYPE=image/jpeg:https://pedbikemelrose.org/wp-content/uploads/2024/04/meeting-mainst.jpg
END:VEVENT
BEGIN:VEVENT
DTSTART;TZID=America/New_York:20250417T190000
DTEND;TZID=America/New_York:20250417T200000
DTSTAMP:20260424T112132
CREATED:20250119T001531Z
LAST-MODIFIED:20250119T001531Z
UID:907-1744916400-1744920000@pedbikemelrose.org
SUMMARY:Monthly Meeting: April 2025
DESCRIPTION:Do YOU have an interest in helping make the streets in your neighborhood\, and around the city\, safer and friendlier for people of all ages and abilities? Then you belong! Please join us at our monthly meeting to learn what we’ve been working on and to share your ideas!\n\nMeetings are hybrid format – message us for Zoom details\, or sign up to receive meeting notices at our website: https://pedbikemelrose.org/contact-us/
URL:https://pedbikemelrose.org/event/monthly-meeting-april-2025/
LOCATION:Leading Edge Real Estate – Community Space\, 536 Main St\, Melrose\, MA\, 02176\, United States
CATEGORIES:Ped/Bike Monthly Meetings
ATTACH;FMTTYPE=image/jpeg:https://pedbikemelrose.org/wp-content/uploads/2024/04/meeting-mainst.jpg
END:VEVENT
BEGIN:VEVENT
DTSTART;TZID=America/New_York:20250515T190000
DTEND;TZID=America/New_York:20250515T200000
DTSTAMP:20260424T112132
CREATED:20250506T013142Z
LAST-MODIFIED:20250506T013204Z
UID:942-1747335600-1747339200@pedbikemelrose.org
SUMMARY:Monthly Meeting: May 2025
DESCRIPTION:Do YOU have an interest in helping make the streets in your neighborhood\, and around the city\, safer and friendlier for people of all ages and abilities? Then you belong! Please join us at our monthly meeting to learn what we’ve been working on and to share your ideas!\n\nMeetings are hybrid format – message us for Zoom details\, or sign up to receive meeting notices at our website: https://pedbikemelrose.org/contact-us/
URL:https://pedbikemelrose.org/event/monthly-meeting-may-2025/
LOCATION:Leading Edge Real Estate – Community Space\, 536 Main St\, Melrose\, MA\, 02176\, United States
CATEGORIES:Ped/Bike Monthly Meetings
ATTACH;FMTTYPE=image/jpeg:https://pedbikemelrose.org/wp-content/uploads/2024/04/meeting-mainst.jpg
END:VEVENT
BEGIN:VEVENT
DTSTART;TZID=America/New_York:20250516T070000
DTEND;TZID=America/New_York:20250516T170000
DTSTAMP:20260424T112132
CREATED:20250506T012421Z
LAST-MODIFIED:20250506T012421Z
UID:938-1747378800-1747414800@pedbikemelrose.org
SUMMARY:Boston Bike to Work Day 2025
DESCRIPTION:Melrose is once again participating in Boston Bike to Work Day! A convoy will leave from in front of the YMCA at 7:00am and meet up with other north shore riders before heading into Boston for the festivities! \nMore info\, including the full route\, can be found here: https://www.boston.gov/departments/boston-bikes/bike-work-day \nThis is a GREAT ride and a fun opportunity to try biking into Boston in the safety of a group! Hope to see you there.
URL:https://pedbikemelrose.org/event/boston-bike-to-work-day-2025/
LOCATION:Melrose YMCA\, 497 Main Street\, Melrose\, MA\, 02176\, United States
CATEGORIES:Regional Events
ATTACH;FMTTYPE=image/jpeg:https://pedbikemelrose.org/wp-content/uploads/2023/05/group.jpg
END:VEVENT
BEGIN:VEVENT
DTSTART;TZID=America/New_York:20250517T090000
DTEND;TZID=America/New_York:20250517T120000
DTSTAMP:20260424T112132
CREATED:20250506T012931Z
LAST-MODIFIED:20250506T012931Z
UID:940-1747472400-1747483200@pedbikemelrose.org
SUMMARY:Bike Swap - Melrose Sustainability Saturday
DESCRIPTION:We’ll be at Rep Kate Lipper-Garabedian’s fourth annual Recycling & Sustainability Event hosting a bike swap! \nCome take a new-to-you bicycle or leave one you no longer need (no scooters please)! Look forward to seeing and chatting with you there!
URL:https://pedbikemelrose.org/event/bike-swap-melrose-sustainability-saturday/
LOCATION:Melrose Veterans Memorial Middle School\, 350 Lynn Fells Parkway\, Melrose\, MA\, 02176\, United States
CATEGORIES:Local Events
ORGANIZER;CN="Representative Kate Lipper-Garabedian":MAILTO:info@kateforrep.com
END:VEVENT
BEGIN:VEVENT
DTSTART;TZID=America/New_York:20250619T190000
DTEND;TZID=America/New_York:20250619T200000
DTSTAMP:20260424T112132
CREATED:20250606T125707Z
LAST-MODIFIED:20250606T125707Z
UID:948-1750359600-1750363200@pedbikemelrose.org
SUMMARY:Monthly Meeting: June 2025
DESCRIPTION:Do YOU have an interest in helping make the streets in your neighborhood\, and around the city\, safer and friendlier for people of all ages and abilities? Then you belong! Please join us at our monthly meeting to learn what we’ve been working on and to share your ideas!\n\nMeetings are hybrid format – message us for Zoom details\, or sign up to receive meeting notices at our website: https://pedbikemelrose.org/contact-us/
URL:https://pedbikemelrose.org/event/monthly-meeting-june-2025/
LOCATION:Leading Edge Real Estate – Community Space\, 536 Main St\, Melrose\, MA\, 02176\, United States
CATEGORIES:Ped/Bike Monthly Meetings
ATTACH;FMTTYPE=image/jpeg:https://pedbikemelrose.org/wp-content/uploads/2024/04/meeting-mainst.jpg
END:VEVENT
BEGIN:VEVENT
DTSTART;TZID=America/New_York:20250717T190000
DTEND;TZID=America/New_York:20250717T200000
DTSTAMP:20260424T112132
CREATED:20250606T125802Z
LAST-MODIFIED:20250606T125802Z
UID:950-1752778800-1752782400@pedbikemelrose.org
SUMMARY:Monthly Meeting: July 2025
DESCRIPTION:Do YOU have an interest in helping make the streets in your neighborhood\, and around the city\, safer and friendlier for people of all ages and abilities? Then you belong! Please join us at our monthly meeting to learn what we’ve been working on and to share your ideas!\n\nMeetings are hybrid format – message us for Zoom details\, or sign up to receive meeting notices at our website: https://pedbikemelrose.org/contact-us/
URL:https://pedbikemelrose.org/event/monthly-meeting-july-2025/
LOCATION:Leading Edge Real Estate – Community Space\, 536 Main St\, Melrose\, MA\, 02176\, United States
CATEGORIES:Ped/Bike Monthly Meetings
ATTACH;FMTTYPE=image/jpeg:https://pedbikemelrose.org/wp-content/uploads/2024/04/meeting-mainst.jpg
END:VEVENT
BEGIN:VEVENT
DTSTART;TZID=America/New_York:20250821T080000
DTEND;TZID=America/New_York:20250821T170000
DTSTAMP:20260424T112132
CREATED:20250606T125855Z
LAST-MODIFIED:20250606T125855Z
UID:952-1755763200-1755795600@pedbikemelrose.org
SUMMARY:Monthly Meeting: August 2025
DESCRIPTION:Do YOU have an interest in helping make the streets in your neighborhood\, and around the city\, safer and friendlier for people of all ages and abilities? Then you belong! Please join us at our monthly meeting to learn what we’ve been working on and to share your ideas!\n\nMeetings are hybrid format – message us for Zoom details\, or sign up to receive meeting notices at our website: https://pedbikemelrose.org/contact-us/
URL:https://pedbikemelrose.org/event/monthly-meeting-august-2025/
LOCATION:Leading Edge Real Estate – Community Space\, 536 Main St\, Melrose\, MA\, 02176\, United States
CATEGORIES:Ped/Bike Monthly Meetings
ATTACH;FMTTYPE=image/jpeg:https://pedbikemelrose.org/wp-content/uploads/2024/04/meeting-mainst.jpg
END:VEVENT
BEGIN:VEVENT
DTSTART;TZID=America/New_York:20250907T110000
DTEND;TZID=America/New_York:20250907T160000
DTSTAMP:20260424T112132
CREATED:20250904T001853Z
LAST-MODIFIED:20250904T001853Z
UID:967-1757242800-1757260800@pedbikemelrose.org
SUMMARY:Victorian Fair Bike Valet
DESCRIPTION:Heading to the Victorian fair? We hope so! We also hope you’ll choose to walk\, bike\, or roll to the event. If you bring your bike\, please feel free to valet it with us! We’ll be at the corner of Main and East Foster\, next to the YMCA.
URL:https://pedbikemelrose.org/event/victorian-fair-bike-valet/
LOCATION:Melrose YMCA\, 497 Main Street\, Melrose\, MA\, 02176\, United States
CATEGORIES:Local Events
END:VEVENT
BEGIN:VEVENT
DTSTART;TZID=America/New_York:20250918T190000
DTEND;TZID=America/New_York:20250918T200000
DTSTAMP:20260424T112132
CREATED:20250904T002044Z
LAST-MODIFIED:20250908T173323Z
UID:970-1758222000-1758225600@pedbikemelrose.org
SUMMARY:Monthly Meeting: September 2025
DESCRIPTION:Do YOU have an interest in helping make the streets in your neighborhood\, and around the city\, safer and friendlier for people of all ages and abilities? Then you belong! Please join us at our monthly meeting to learn what we’ve been working on and to share your ideas!\n\nMeetings are hybrid format – message us for Zoom details\, or sign up to receive meeting notices at our website: https://pedbikemelrose.org/contact-us/
URL:https://pedbikemelrose.org/event/monthly-meeting-september-2025/
LOCATION:Leading Edge Real Estate – Community Space\, 536 Main St\, Melrose\, MA\, 02176\, United States
CATEGORIES:Ped/Bike Monthly Meetings
ATTACH;FMTTYPE=image/jpeg:https://pedbikemelrose.org/wp-content/uploads/2024/04/meeting-mainst.jpg
END:VEVENT
BEGIN:VEVENT
DTSTART;TZID=America/New_York:20251004T123000
DTEND;TZID=America/New_York:20251004T133000
DTSTAMP:20260424T112132
CREATED:20250924T121831Z
LAST-MODIFIED:20251002T011542Z
UID:975-1759581000-1759584600@pedbikemelrose.org
SUMMARY:Ped/Bike Rally for the Override!
DESCRIPTION:This November\, Melrose voters will be asked to approve an override measure. The Melrose Pedestrian & Bicyclist Committee supports this override\, as we understand how crucial these funds are for supporting crucial city services and funding for community health measures\, walkability\, and safer streets. Join us for a rally in support of the override! Featuring fun events like “bike bus” tee-shirt painting and more!
URL:https://pedbikemelrose.org/event/ped-bike-rally-for-the-override/
LOCATION:Ell Pond Gazebo\, 700 Main St\, Melrose\, MA\, 02176\, United States
CATEGORIES:Local Events
ATTACH;FMTTYPE=image/png:https://pedbikemelrose.org/wp-content/uploads/2025/09/rideover.png
END:VEVENT
BEGIN:VEVENT
DTSTART;TZID=America/New_York:20251016T190000
DTEND;TZID=America/New_York:20251016T200000
DTSTAMP:20260424T112132
CREATED:20250904T002141Z
LAST-MODIFIED:20250908T173305Z
UID:972-1760641200-1760644800@pedbikemelrose.org
SUMMARY:Monthly Meeting: October 2025
DESCRIPTION:Do YOU have an interest in helping make the streets in your neighborhood\, and around the city\, safer and friendlier for people of all ages and abilities? Then you belong! Please join us at our monthly meeting to learn what we’ve been working on and to share your ideas!\n\nMeetings are hybrid format – message us for Zoom details\, or sign up to receive meeting notices at our website: https://pedbikemelrose.org/contact-us/
URL:https://pedbikemelrose.org/event/monthly-meeting-october-2025/
LOCATION:Leading Edge Real Estate – Community Space\, 536 Main St\, Melrose\, MA\, 02176\, United States
CATEGORIES:Ped/Bike Monthly Meetings
ATTACH;FMTTYPE=image/jpeg:https://pedbikemelrose.org/wp-content/uploads/2024/04/meeting-mainst.jpg
END:VEVENT
BEGIN:VEVENT
DTSTART;TZID=America/New_York:20251120T190000
DTEND;TZID=America/New_York:20251120T200000
DTSTAMP:20260424T112132
CREATED:20251120T001755Z
LAST-MODIFIED:20251120T001755Z
UID:995-1763665200-1763668800@pedbikemelrose.org
SUMMARY:Monthly Meeting: November 2025
DESCRIPTION:Do YOU have an interest in helping make the streets in your neighborhood\, and around the city\, safer and friendlier for people of all ages and abilities? Then you belong! Please join us at our monthly meeting to learn what we’ve been working on and to share your ideas!\n\nMeetings are hybrid format – message us for Zoom details\, or sign up to receive meeting notices at our website: https://pedbikemelrose.org/contact-us/
URL:https://pedbikemelrose.org/event/monthly-meeting-november-2025/
LOCATION:Leading Edge Real Estate – Community Space\, 536 Main St\, Melrose\, MA\, 02176\, United States
CATEGORIES:Ped/Bike Monthly Meetings
ATTACH;FMTTYPE=image/jpeg:https://pedbikemelrose.org/wp-content/uploads/2024/04/meeting-mainst.jpg
END:VEVENT
BEGIN:VEVENT
DTSTART;TZID=America/New_York:20251218T190000
DTEND;TZID=America/New_York:20251218T200000
DTSTAMP:20260424T112132
CREATED:20251120T001852Z
LAST-MODIFIED:20251120T001852Z
UID:997-1766084400-1766088000@pedbikemelrose.org
SUMMARY:Monthly Meeting: December 2025
DESCRIPTION:Do YOU have an interest in helping make the streets in your neighborhood\, and around the city\, safer and friendlier for people of all ages and abilities? Then you belong! Please join us at our monthly meeting to learn what we’ve been working on and to share your ideas!\n\nMeetings are hybrid format – message us for Zoom details\, or sign up to receive meeting notices at our website: https://pedbikemelrose.org/contact-us/
URL:https://pedbikemelrose.org/event/monthly-meeting-december-2025/
LOCATION:Leading Edge Real Estate – Community Space\, 536 Main St\, Melrose\, MA\, 02176\, United States
CATEGORIES:Ped/Bike Monthly Meetings
ATTACH;FMTTYPE=image/jpeg:https://pedbikemelrose.org/wp-content/uploads/2024/04/meeting-mainst.jpg
END:VEVENT
BEGIN:VEVENT
DTSTART;TZID=America/New_York:20260115T190000
DTEND;TZID=America/New_York:20260115T200000
DTSTAMP:20260424T112132
CREATED:20251120T001958Z
LAST-MODIFIED:20251120T001958Z
UID:999-1768503600-1768507200@pedbikemelrose.org
SUMMARY:Monthly Meeting: January 2026
DESCRIPTION:Do YOU have an interest in helping make the streets in your neighborhood\, and around the city\, safer and friendlier for people of all ages and abilities? Then you belong! Please join us at our monthly meeting to learn what we’ve been working on and to share your ideas!\n\nMeetings are hybrid format – message us for Zoom details\, or sign up to receive meeting notices at our website: https://pedbikemelrose.org/contact-us/
URL:https://pedbikemelrose.org/event/monthly-meeting-january-2026/
LOCATION:Leading Edge Real Estate – Community Space\, 536 Main St\, Melrose\, MA\, 02176\, United States
CATEGORIES:Ped/Bike Monthly Meetings
ATTACH;FMTTYPE=image/jpeg:https://pedbikemelrose.org/wp-content/uploads/2024/04/meeting-mainst.jpg
END:VEVENT
BEGIN:VEVENT
DTSTART;TZID=America/New_York:20260219T190000
DTEND;TZID=America/New_York:20260219T200000
DTSTAMP:20260424T112132
CREATED:20251120T002102Z
LAST-MODIFIED:20251120T002102Z
UID:1001-1771527600-1771531200@pedbikemelrose.org
SUMMARY:Monthly Meeting: February 2026
DESCRIPTION:Do YOU have an interest in helping make the streets in your neighborhood\, and around the city\, safer and friendlier for people of all ages and abilities? Then you belong! Please join us at our monthly meeting to learn what we’ve been working on and to share your ideas!\n\nMeetings are hybrid format – message us for Zoom details\, or sign up to receive meeting notices at our website: https://pedbikemelrose.org/contact-us/
URL:https://pedbikemelrose.org/event/monthly-meeting-february-2026/
LOCATION:Leading Edge Real Estate – Community Space\, 536 Main St\, Melrose\, MA\, 02176\, United States
CATEGORIES:Ped/Bike Monthly Meetings
ATTACH;FMTTYPE=image/jpeg:https://pedbikemelrose.org/wp-content/uploads/2024/04/meeting-mainst.jpg
END:VEVENT
BEGIN:VEVENT
DTSTART;TZID=America/New_York:20260416T190000
DTEND;TZID=America/New_York:20260416T200000
DTSTAMP:20260424T112132
CREATED:20260416T205511Z
LAST-MODIFIED:20260416T205511Z
UID:1020-1776366000-1776369600@pedbikemelrose.org
SUMMARY:Monthly Meeting: April 2026
DESCRIPTION:Do YOU have an interest in helping make the streets in your neighborhood\, and around the city\, safer and friendlier for people of all ages and abilities? Then you belong! Please join us at our monthly meeting to learn what we’ve been working on and to share your ideas!\n\nMeetings are hybrid format – message us for Zoom details\, or sign up to receive meeting notices at our website: https://pedbikemelrose.org/contact-us/
URL:https://pedbikemelrose.org/event/monthly-meeting-april-2026/
LOCATION:Leading Edge Real Estate – Community Space\, 536 Main St\, Melrose\, MA\, 02176\, United States
CATEGORIES:Ped/Bike Monthly Meetings
ATTACH;FMTTYPE=image/jpeg:https://pedbikemelrose.org/wp-content/uploads/2024/04/meeting-mainst.jpg
END:VEVENT
BEGIN:VEVENT
DTSTART;TZID=America/New_York:20260502T090000
DTEND;TZID=America/New_York:20260502T120000
DTSTAMP:20260424T112132
CREATED:20260416T205943Z
LAST-MODIFIED:20260416T205943Z
UID:1023-1777712400-1777723200@pedbikemelrose.org
SUMMARY:Bike Swap @ KLG's Sustainability Day
DESCRIPTION:Stop by Kate Lipper-Garabedian’s fifth annual “Recycling and Sustainability” Event in the MVMMS front parking lot. We’ll be hosting a “bike swap\,” where residents are encouraged to donate their unused (but still useable) bikes\, or take one home that’s new-to-you! \nNote: please do NOT bring plastic childrens’ toys\, scooters\, etc.
URL:https://pedbikemelrose.org/event/bike-swap-klgs-sustainability-day/
LOCATION:Melrose Veterans Memorial Middle School\, 350 Lynn Fells Parkway\, Melrose\, MA\, 02176\, United States
CATEGORIES:Local Events
ORGANIZER;CN="Representative Kate Lipper-Garabedian":MAILTO:info@kateforrep.com
END:VEVENT
END:VCALENDAR