BEGIN:VCALENDAR
VERSION:2.0
PRODID:-//Ped/Bike Melrose - ECPv6.15.20//NONSGML v1.0//EN
CALSCALE:GREGORIAN
METHOD:PUBLISH
X-WR-CALNAME:Ped/Bike Melrose
X-ORIGINAL-URL:https://pedbikemelrose.org
X-WR-CALDESC:Events for Ped/Bike Melrose
REFRESH-INTERVAL;VALUE=DURATION:PT1H
X-Robots-Tag:noindex
X-PUBLISHED-TTL:PT1H
BEGIN:VTIMEZONE
TZID:America/New_York
BEGIN:DAYLIGHT
TZOFFSETFROM:-0500
TZOFFSETTO:-0400
TZNAME:EDT
DTSTART:20190310T070000
END:DAYLIGHT
BEGIN:STANDARD
TZOFFSETFROM:-0400
TZOFFSETTO:-0500
TZNAME:EST
DTSTART:20191103T060000
END:STANDARD
BEGIN:DAYLIGHT
TZOFFSETFROM:-0500
TZOFFSETTO:-0400
TZNAME:EDT
DTSTART:20200308T070000
END:DAYLIGHT
BEGIN:STANDARD
TZOFFSETFROM:-0400
TZOFFSETTO:-0500
TZNAME:EST
DTSTART:20201101T060000
END:STANDARD
BEGIN:DAYLIGHT
TZOFFSETFROM:-0500
TZOFFSETTO:-0400
TZNAME:EDT
DTSTART:20210314T070000
END:DAYLIGHT
BEGIN:STANDARD
TZOFFSETFROM:-0400
TZOFFSETTO:-0500
TZNAME:EST
DTSTART:20211107T060000
END:STANDARD
END:VTIMEZONE
BEGIN:VEVENT
DTSTART;TZID=America/New_York:20201104T140000
DTEND;TZID=America/New_York:20201104T153000
DTSTAMP:20260424T112334
CREATED:20201101T204752Z
LAST-MODIFIED:20201101T204917Z
UID:178-1604498400-1604503800@pedbikemelrose.org
SUMMARY:Monthly Meeting: November 2020
DESCRIPTION:Are you interested in having safer streets in Melrose? If so\, we would love to have you join our next monthly meeting to share your ideas\, concerns\, questions\, and comments! Whether you are interested in joining the meeting regularly\, or just want to drop in to share something with us\, you are welcome. Please drop us a line to be added to the Zoom invite. We can’t wait to hear from you! \nNOVEMBER AGENDA ITEMS: \n\nNew website (this one!)\nParklets update\nShared Streets (i.e. slow streets) projects\nTraffic Calming Program\nLower Main Street redesign\nHoover Complete Streets grant\nCity “Snow Angels” program (identify problem plowing/shoveling spots and come up with plan to address)
URL:https://pedbikemelrose.org/event/monthly-meeting-november-2020/
LOCATION:Zoom (contact us for details)
ATTACH;FMTTYPE=image/jpeg:https://pedbikemelrose.org/wp-content/uploads/2020/10/lynde3.jpg
END:VEVENT
END:VCALENDAR