BEGIN:VCALENDAR
VERSION:2.0
PRODID:-//Ped/Bike Melrose - ECPv6.15.20//NONSGML v1.0//EN
CALSCALE:GREGORIAN
METHOD:PUBLISH
X-ORIGINAL-URL:https://pedbikemelrose.org
X-WR-CALDESC:Events for Ped/Bike Melrose
REFRESH-INTERVAL;VALUE=DURATION:PT1H
X-Robots-Tag:noindex
X-PUBLISHED-TTL:PT1H
BEGIN:VTIMEZONE
TZID:America/New_York
BEGIN:DAYLIGHT
TZOFFSETFROM:-0500
TZOFFSETTO:-0400
TZNAME:EDT
DTSTART:20250309T070000
END:DAYLIGHT
BEGIN:STANDARD
TZOFFSETFROM:-0400
TZOFFSETTO:-0500
TZNAME:EST
DTSTART:20251102T060000
END:STANDARD
BEGIN:DAYLIGHT
TZOFFSETFROM:-0500
TZOFFSETTO:-0400
TZNAME:EDT
DTSTART:20260308T070000
END:DAYLIGHT
BEGIN:STANDARD
TZOFFSETFROM:-0400
TZOFFSETTO:-0500
TZNAME:EST
DTSTART:20261101T060000
END:STANDARD
BEGIN:DAYLIGHT
TZOFFSETFROM:-0500
TZOFFSETTO:-0400
TZNAME:EDT
DTSTART:20270314T070000
END:DAYLIGHT
BEGIN:STANDARD
TZOFFSETFROM:-0400
TZOFFSETTO:-0500
TZNAME:EST
DTSTART:20271107T060000
END:STANDARD
END:VTIMEZONE
BEGIN:VEVENT
DTSTART;TZID=America/New_York:20260219T190000
DTEND;TZID=America/New_York:20260219T200000
DTSTAMP:20260424T222216
CREATED:20251120T002102Z
LAST-MODIFIED:20251120T002102Z
UID:1001-1771527600-1771531200@pedbikemelrose.org
SUMMARY:Monthly Meeting: February 2026
DESCRIPTION:Do YOU have an interest in helping make the streets in your neighborhood\, and around the city\, safer and friendlier for people of all ages and abilities? Then you belong! Please join us at our monthly meeting to learn what we’ve been working on and to share your ideas!\n\nMeetings are hybrid format – message us for Zoom details\, or sign up to receive meeting notices at our website: https://pedbikemelrose.org/contact-us/
URL:https://pedbikemelrose.org/event/monthly-meeting-february-2026/
LOCATION:Leading Edge Real Estate – Community Space\, 536 Main St\, Melrose\, MA\, 02176\, United States
CATEGORIES:Ped/Bike Monthly Meetings
ATTACH;FMTTYPE=image/jpeg:https://pedbikemelrose.org/wp-content/uploads/2024/04/meeting-mainst.jpg
END:VEVENT
BEGIN:VEVENT
DTSTART;TZID=America/New_York:20260416T190000
DTEND;TZID=America/New_York:20260416T200000
DTSTAMP:20260424T222216
CREATED:20260416T205511Z
LAST-MODIFIED:20260416T205511Z
UID:1020-1776366000-1776369600@pedbikemelrose.org
SUMMARY:Monthly Meeting: April 2026
DESCRIPTION:Do YOU have an interest in helping make the streets in your neighborhood\, and around the city\, safer and friendlier for people of all ages and abilities? Then you belong! Please join us at our monthly meeting to learn what we’ve been working on and to share your ideas!\n\nMeetings are hybrid format – message us for Zoom details\, or sign up to receive meeting notices at our website: https://pedbikemelrose.org/contact-us/
URL:https://pedbikemelrose.org/event/monthly-meeting-april-2026/
LOCATION:Leading Edge Real Estate – Community Space\, 536 Main St\, Melrose\, MA\, 02176\, United States
CATEGORIES:Ped/Bike Monthly Meetings
ATTACH;FMTTYPE=image/jpeg:https://pedbikemelrose.org/wp-content/uploads/2024/04/meeting-mainst.jpg
END:VEVENT
BEGIN:VEVENT
DTSTART;TZID=America/New_York:20260502T090000
DTEND;TZID=America/New_York:20260502T120000
DTSTAMP:20260424T222216
CREATED:20260416T205943Z
LAST-MODIFIED:20260416T205943Z
UID:1023-1777712400-1777723200@pedbikemelrose.org
SUMMARY:Bike Swap @ KLG's Sustainability Day
DESCRIPTION:Stop by Kate Lipper-Garabedian’s fifth annual “Recycling and Sustainability” Event in the MVMMS front parking lot. We’ll be hosting a “bike swap\,” where residents are encouraged to donate their unused (but still useable) bikes\, or take one home that’s new-to-you! \nNote: please do NOT bring plastic childrens’ toys\, scooters\, etc.
URL:https://pedbikemelrose.org/event/bike-swap-klgs-sustainability-day/
LOCATION:Melrose Veterans Memorial Middle School\, 350 Lynn Fells Parkway\, Melrose\, MA\, 02176\, United States
CATEGORIES:Local Events
ORGANIZER;CN="Representative Kate Lipper-Garabedian":MAILTO:info@kateforrep.com
END:VEVENT
BEGIN:VEVENT
DTSTART;TZID=America/New_York:20260507T070000
DTEND;TZID=America/New_York:20260507T080000
DTSTAMP:20260424T222216
CREATED:20260425T010029Z
LAST-MODIFIED:20260425T010029Z
UID:1026-1778137200-1778140800@pedbikemelrose.org
SUMMARY:Boston Bike to Work Day 2026
DESCRIPTION:Each year Boston celebrates “Bike to Work Day\,” with group rides departing from many different area suburbs before meeting up in downtown Boston for a celebration. The group from Melrose departs from the bike racks in front of the YMCA at 7am. If you have never biked to Boston before\, this is a great opportunity to do it in a safe group setting! The ride utilizes as much “protected” infrastructure as possible. \nFrom the City of Boston: \nBoston’s National Bike to Work Day Festival celebrates National Bike to Work Day. It’s Boston’s way of saying\, “Thanks for riding your bike today.” We think it’s important to celebrate everyone who rides in Boston. We also want to make it fun for experienced and new bike commuters by organizing group rides and a festival. This year we will celebrate from 7:30 to 9:30 a.m.
URL:https://pedbikemelrose.org/event/boston-bike-to-work-day-2026/
LOCATION:Melrose YMCA\, 497 Main Street\, Melrose\, MA\, 02176\, United States
CATEGORIES:Regional Events
ATTACH;FMTTYPE=image/jpeg:https://pedbikemelrose.org/wp-content/uploads/2023/05/group.jpg
END:VEVENT
END:VCALENDAR