BEGIN:VCALENDAR
VERSION:2.0
PRODID:-//Ped/Bike Melrose - ECPv6.15.20//NONSGML v1.0//EN
CALSCALE:GREGORIAN
METHOD:PUBLISH
X-WR-CALNAME:Ped/Bike Melrose
X-ORIGINAL-URL:https://pedbikemelrose.org
X-WR-CALDESC:Events for Ped/Bike Melrose
REFRESH-INTERVAL;VALUE=DURATION:PT1H
X-Robots-Tag:noindex
X-PUBLISHED-TTL:PT1H
BEGIN:VTIMEZONE
TZID:America/New_York
BEGIN:DAYLIGHT
TZOFFSETFROM:-0500
TZOFFSETTO:-0400
TZNAME:EDT
DTSTART:20200308T070000
END:DAYLIGHT
BEGIN:STANDARD
TZOFFSETFROM:-0400
TZOFFSETTO:-0500
TZNAME:EST
DTSTART:20201101T060000
END:STANDARD
BEGIN:DAYLIGHT
TZOFFSETFROM:-0500
TZOFFSETTO:-0400
TZNAME:EDT
DTSTART:20210314T070000
END:DAYLIGHT
BEGIN:STANDARD
TZOFFSETFROM:-0400
TZOFFSETTO:-0500
TZNAME:EST
DTSTART:20211107T060000
END:STANDARD
BEGIN:DAYLIGHT
TZOFFSETFROM:-0500
TZOFFSETTO:-0400
TZNAME:EDT
DTSTART:20220313T070000
END:DAYLIGHT
BEGIN:STANDARD
TZOFFSETFROM:-0400
TZOFFSETTO:-0500
TZNAME:EST
DTSTART:20221106T060000
END:STANDARD
BEGIN:DAYLIGHT
TZOFFSETFROM:-0500
TZOFFSETTO:-0400
TZNAME:EDT
DTSTART:20230312T070000
END:DAYLIGHT
BEGIN:STANDARD
TZOFFSETFROM:-0400
TZOFFSETTO:-0500
TZNAME:EST
DTSTART:20231105T060000
END:STANDARD
END:VTIMEZONE
BEGIN:VEVENT
DTSTART;VALUE=DATE:20220504
DTEND;VALUE=DATE:20220505
DTSTAMP:20260423T183137
CREATED:20220405T142745Z
LAST-MODIFIED:20220405T142745Z
UID:615-1651622400-1651708799@pedbikemelrose.org
SUMMARY:Walk\, Bike\, & Roll to School Day
DESCRIPTION:The 11th annual National Bike & Roll to School Day is May 4\, 2022\, and registration is now open! \nWhether addressing the need to make routes to school safer for active trips or encouraging children to be more active\, these events can be powerful tools to inspire lasting change. Of course\, they are also fun! \nWhile May 4 is this year’s official date\, communities are welcome to celebrate any day in May that best fits their schedules. Register today to join the movement! \nIn case you missed it\, you can find the full announcement about our recently updated event name and learn about the resources we’ve added to our redesigned website to help you plan fun\, impactful events here. \nLooking for more resources\, event ideas and Walk\, Bike & Roll to School news? Follow us on Facebook\, Instagram and Twitter!
URL:https://pedbikemelrose.org/event/walk-bike-roll-to-school-day/
CATEGORIES:Regional Events
END:VEVENT
BEGIN:VEVENT
DTSTART;VALUE=DATE:20220501
DTEND;VALUE=DATE:20220502
DTSTAMP:20260423T183137
CREATED:20220306T143723Z
LAST-MODIFIED:20220306T143723Z
UID:586-1651363200-1651449599@pedbikemelrose.org
SUMMARY:National Ride a Bike Day
DESCRIPTION:Stay tuned for details.
URL:https://pedbikemelrose.org/event/national-ride-a-bike-day/
END:VEVENT
BEGIN:VEVENT
DTSTART;TZID=America/New_York:20220424T103000
DTEND;TZID=America/New_York:20220424T120000
DTSTAMP:20260423T183137
CREATED:20220421T162834Z
LAST-MODIFIED:20220421T162958Z
UID:618-1650796200-1650801600@pedbikemelrose.org
SUMMARY:All-Ages Earth Week Ride
DESCRIPTION:In honor of #EarthWeek\, we are hosting a little all-ages bike ride at 10:30am. We will be taking a low-stress group ride around Melrose\, starting from the High School Parking lot. We can’t wait to see you there! You can RSVP at the below link: \nhttps://www.eventbrite.com/e/all-ages-bike-ride-for-city-of-melrose-earth-week-tickets-321941043327
URL:https://pedbikemelrose.org/event/all-ages-earth-week-ride/
LOCATION:Melrose High School\, 360 Lynn Fells Parkway\, Melrose\, MA\, 02176\, United States
CATEGORIES:Local Events
ATTACH;FMTTYPE=image/jpeg:https://pedbikemelrose.org/wp-content/uploads/2022/04/https-_cdn.evbuc_.com_images_267783039_911670299783_1_original.20220416-005628.jpg
END:VEVENT
BEGIN:VEVENT
DTSTART;TZID=America/New_York:20220409T100000
DTEND;TZID=America/New_York:20220409T130000
DTSTAMP:20260423T183137
CREATED:20220310T235439Z
LAST-MODIFIED:20220310T235439Z
UID:590-1649498400-1649509200@pedbikemelrose.org
SUMMARY:Melrose Recycling & Sustainability Day
DESCRIPTION:Join us alongside numerous other local sustainability-focused organizations for an event coordinated by Kate Lipper-Garabedian’s office. More details to follow!
URL:https://pedbikemelrose.org/event/melrose-recycling-sustainability-day/
LOCATION:Melrose High School\, 360 Lynn Fells Parkway\, Melrose\, MA\, 02176\, United States
ATTACH;FMTTYPE=image/jpeg:https://pedbikemelrose.org/wp-content/uploads/2022/03/FNb5j51XsAgWEuy.jpg
ORGANIZER;CN="Representative Kate Lipper-Garabedian":MAILTO:info@kateforrep.com
END:VEVENT
BEGIN:VEVENT
DTSTART;TZID=America/New_York:20220407T190000
DTEND;TZID=America/New_York:20220407T200000
DTSTAMP:20260423T183137
CREATED:20220306T142053Z
LAST-MODIFIED:20220306T142053Z
UID:575-1649358000-1649361600@pedbikemelrose.org
SUMMARY:Monthly Meeting: April 2022
DESCRIPTION:Do YOU have an interest in helping make the streets in your neighborhood\, and around the city\, safer and friendlier for people of all ages and abilities? Then you belong! Please join us at our monthly meeting to learn what we’ve been working on and to share your ideas! \nTo be informed of meeting details and future events\, click here and sign up for our mailing list.
URL:https://pedbikemelrose.org/event/monthly-meeting-april-2022/
LOCATION:Zoom (contact us for details)
CATEGORIES:Ped/Bike Monthly Meetings
ATTACH;FMTTYPE=image/jpeg:https://pedbikemelrose.org/wp-content/uploads/2020/11/87864585_1617703005037455_9190575756776833024_o.jpg
END:VEVENT
BEGIN:VEVENT
DTSTART;TZID=America/New_York:20220303T190000
DTEND;TZID=America/New_York:20220303T200000
DTSTAMP:20260423T183137
CREATED:20220227T160540Z
LAST-MODIFIED:20220227T160540Z
UID:568-1646334000-1646337600@pedbikemelrose.org
SUMMARY:Monthly Meeting: March 2022
DESCRIPTION:Do YOU have an interest in helping make the streets in your neighborhood\, and around the city\, safer and friendlier for people of all ages and abilities? Then you belong! Please join us at our monthly meeting to learn what we’ve been working on and to share your ideas!\n\nMessage us for Zoom details\, or sign up to receive meeting notices here:\nContact Us
URL:https://pedbikemelrose.org/event/monthly-meeting-march-2022/
LOCATION:Zoom (contact us for details)
CATEGORIES:Ped/Bike Monthly Meetings
ATTACH;FMTTYPE=image/jpeg:https://pedbikemelrose.org/wp-content/uploads/2020/11/87864585_1617703005037455_9190575756776833024_o.jpg
END:VEVENT
BEGIN:VEVENT
DTSTART;TZID=America/New_York:20220203T190000
DTEND;TZID=America/New_York:20220203T200000
DTSTAMP:20260423T183137
CREATED:20211201T150643Z
LAST-MODIFIED:20211201T150643Z
UID:525-1643914800-1643918400@pedbikemelrose.org
SUMMARY:Monthly Meeting: February 2022
DESCRIPTION:Do YOU have an interest in helping make the streets in your neighborhood\, and around the city\, safer and friendlier for people of all ages and abilities? Then you belong! Please join us at our monthly meeting to learn what we’ve been working on and to share your ideas!\n\nMessage us for Zoom details\, or sign up to receive meeting notices at our website: https://pedbikemelrose.org/?page_id=62
URL:https://pedbikemelrose.org/event/monthly-meeting-february-2022/
LOCATION:Zoom (contact us for details)
CATEGORIES:Ped/Bike Monthly Meetings
ATTACH;FMTTYPE=image/jpeg:https://pedbikemelrose.org/wp-content/uploads/2020/11/87864585_1617703005037455_9190575756776833024_o.jpg
END:VEVENT
BEGIN:VEVENT
DTSTART;TZID=America/New_York:20220106T190000
DTEND;TZID=America/New_York:20220106T200000
DTSTAMP:20260423T183137
CREATED:20211201T150546Z
LAST-MODIFIED:20211201T150659Z
UID:523-1641495600-1641499200@pedbikemelrose.org
SUMMARY:Monthly Meeting: January 2022
DESCRIPTION:Do YOU have an interest in helping make the streets in your neighborhood\, and around the city\, safer and friendlier for people of all ages and abilities? Then you belong! Please join us at our monthly meeting to learn what we’ve been working on and to share your ideas!\n\nMessage us for Zoom details\, or sign up to receive meeting notices at our website: https://pedbikemelrose.org/?page_id=62
URL:https://pedbikemelrose.org/event/monthly-meeting-january-2022/
LOCATION:Zoom (contact us for details)
CATEGORIES:Ped/Bike Monthly Meetings
ATTACH;FMTTYPE=image/jpeg:https://pedbikemelrose.org/wp-content/uploads/2020/11/87864585_1617703005037455_9190575756776833024_o.jpg
END:VEVENT
BEGIN:VEVENT
DTSTART;TZID=America/New_York:20211212T130000
DTEND;TZID=America/New_York:20211212T150000
DTSTAMP:20260423T183137
CREATED:20211201T151817Z
LAST-MODIFIED:20211201T151817Z
UID:531-1639314000-1639321200@pedbikemelrose.org
SUMMARY:Bike Kitchen Chat
DESCRIPTION:Join our great friends at Bike to the Sea to discuss setting up our own Bike Kitchen along the Northern Strand Trail. Aeronaut Cannery in Everett is hosting\, and Carolicious will be serving arepas onsite. \nIf you don’t already know\, a bike kitchen is a community space that holds weekly “shop hours” to provide people with bike stands\, tools\, and cheap or free spare parts to fix their bikes. One or more trained or self-taught mechanics staff the shop hours\, though they are mostly there to keep track of tools and equipment\, and offer pointers. The point is DIY\, not like a full service shop.\n\nHere’s a video of the Somerville Bike Kitchen in action:
URL:https://pedbikemelrose.org/event/bike-kitchen-chat/
LOCATION:Aeronaut Cannery & Taproom\, 199 Ashland St\, Everett\, MA\, 02149\, United States
END:VEVENT
BEGIN:VEVENT
DTSTART;TZID=America/New_York:20211204T100000
DTEND;TZID=America/New_York:20211204T140000
DTSTAMP:20260423T183137
CREATED:20211201T151406Z
LAST-MODIFIED:20211201T151909Z
UID:527-1638612000-1638626400@pedbikemelrose.org
SUMMARY:Home for the Holidays: eBike Test Rides
DESCRIPTION:Is an eBike\, or cargo bike\, on your holiday wish list? Curious about biking around town with kids? Our great friend @multimodalmom is putting on an ebike/cargo bike showcase\, where you can test ride ebikes\, trailer bikes\, and cargo bikes with your family. Stop by and say hello! There will also be a helmet decorating station for kids!
URL:https://pedbikemelrose.org/event/home-for-the-holidays-ebike-test-rides/
LOCATION:Unitarian Universalist Church\, 70 West Emerson St\, Melrose\, MA\, 02176\, United States
ORGANIZER;CN="multimodal mom":MAILTO:multimodalmom@gmail.com
END:VEVENT
BEGIN:VEVENT
DTSTART;TZID=America/New_York:20211202T190000
DTEND;TZID=America/New_York:20211202T200000
DTSTAMP:20260423T183137
CREATED:20211002T021722Z
LAST-MODIFIED:20211104T013133Z
UID:498-1638471600-1638475200@pedbikemelrose.org
SUMMARY:Monthly Meeting: December 2021
DESCRIPTION:Do YOU have an interest in helping make the streets in your neighborhood\, and around the city\, safer and friendlier for people of all ages and abilities? Then you belong! Please join us at our monthly meeting to learn what we’ve been working on and to share your ideas!\n\nMessage us for Zoom details\, or sign up to receive meeting notices at our website: https://pedbikemelrose.org/?page_id=62
URL:https://pedbikemelrose.org/event/monthly-meeting-december-2021/
LOCATION:Zoom (contact us for details)
END:VEVENT
BEGIN:VEVENT
DTSTART;TZID=America/New_York:20211017T103000
DTEND;TZID=America/New_York:20211017T123000
DTSTAMP:20260423T183137
CREATED:20211002T024146Z
LAST-MODIFIED:20211014T145325Z
UID:504-1634466600-1634473800@pedbikemelrose.org
SUMMARY:Fall Colors Ride
DESCRIPTION:JOIN US! We will be leaving from Melrose to participate in the annual Bike to the Sea Fall Colors Ride!\n\nThe free ride is expected to last 90 minutes\, covering about 15 miles of paved trail along the Northern Strand Trail in Everett and Malden\, as well as along bike paths on both sides of the Mystic and Malden Rivers through Somerville and Medford. The terrain is mostly flat.\n\nhttps://biketothesea.org/…/annual-fall-colors-ride-set…/\n\n**WE WILL MEET AT THE YMCA ON MAIN STREET\, 497 MAIN STREET\, AT 10:30AM**.\n\nBike to the Sea\, who sponsors the ride\, requires helmets on participants. Children\, 8 and older\, are welcome on their own bikes. Children younger than 8 are welcome but should be on a parent’s bike or in a trailer\, etc.
URL:https://pedbikemelrose.org/event/fall-colors-ride/
LOCATION:Melrose YMCA\, 497 Main Street\, Melrose\, MA\, 02176\, United States
END:VEVENT
BEGIN:VEVENT
DTSTART;TZID=America/New_York:20211014T130000
DTEND;TZID=America/New_York:20211014T180000
DTSTAMP:20260423T183137
CREATED:20211014T000346Z
LAST-MODIFIED:20211014T000346Z
UID:507-1634216400-1634234400@pedbikemelrose.org
SUMMARY:Ped/Bike at the Farmer's Market!
DESCRIPTION:Stop by our table at the Melrose Farmers’ Market to chat about our advocacy and about walking and biking in Melrose!\n\nThanks to the efforts of our awesome friend Kara Oberg\, you’ll be able to get a basic bike tune-up done\, so bring your ride down!\n\nSign up for bike repairs here: https://www.signupgenius.com/go/10c0f49a8ab2aa3fcc34-melrose\n\nFollow Kara on Instagram here: https://www.instagram.com/multimodalmom
URL:https://pedbikemelrose.org/event/ped-bike-at-the-farmers-market/
LOCATION:Melrose Farmers’ Market\, 1 West Foster St\, Melrose\, MA\, 02176\, United States
END:VEVENT
BEGIN:VEVENT
DTSTART;TZID=America/New_York:20211007T190000
DTEND;TZID=America/New_York:20211007T200000
DTSTAMP:20260423T183137
CREATED:20211002T021529Z
LAST-MODIFIED:20211007T153059Z
UID:494-1633633200-1633636800@pedbikemelrose.org
SUMMARY:Monthly Meeting: October 2021
DESCRIPTION:Do YOU have an interest in helping make the streets in your neighborhood\, and around the city\, safer and friendlier for people of all ages and abilities? Then you belong! Please join us at our monthly meeting to learn what we’ve been working on and to share your ideas!\n\nMessage us for Zoom details\, or sign up to receive meeting notices at our website: https://pedbikemelrose.org/?page_id=62
URL:https://pedbikemelrose.org/event/monthly-meeting-october-2021/
LOCATION:Zoom (contact us for details)
ATTACH;FMTTYPE=image/jpeg:https://pedbikemelrose.org/wp-content/uploads/2020/11/hSdQqTMpGWOetTM-800x450-noPad.jpg
END:VEVENT
BEGIN:VEVENT
DTSTART;TZID=America/New_York:20211003T100000
DTEND;TZID=America/New_York:20211003T140000
DTSTAMP:20260423T183138
CREATED:20211002T024028Z
LAST-MODIFIED:20211002T024028Z
UID:500-1633255200-1633269600@pedbikemelrose.org
SUMMARY:Healthy Lifestyles Ride
DESCRIPTION:From our friends at Bike to the Sea: \nBike to the Sea is partnering with the Cambridge Health Alliance and Massachusetts Organization for Addiction Recovery to on a Healthy Lifestyles Ride to honor Substance Abuse Victims and their Families as part of National Substance Abuse Prevention Month. \nAll are welcome to join! This bike ride has two options: \n\nFamily-Friendly Ride (6-miles round trip on flat bike trail)\nStart in Malden – End at Salem Street Park in Revere \n2) Beach Ride (20-miles round trip on bike trail and bike lanes)\nStart in Malden – End at Nahant Beach in Lynn (This ride includes the Family-Friendly route\, but goes farther)\n\nCLICK HERE TO REGISTER! \n 
URL:https://pedbikemelrose.org/event/healthy-lifestyles-ride/
LOCATION:Holden Street Parking Lot\, 50 Holden St\, Malden\, 02148
ATTACH;FMTTYPE=image/jpeg:https://pedbikemelrose.org/wp-content/uploads/2021/10/healthy.jpg
END:VEVENT
BEGIN:VEVENT
DTSTART;TZID=America/New_York:20210902T190000
DTEND;TZID=America/New_York:20210902T200000
DTSTAMP:20260423T183138
CREATED:20210902T011417Z
LAST-MODIFIED:20210902T011417Z
UID:484-1630609200-1630612800@pedbikemelrose.org
SUMMARY:Monthly Meeting: September 2021
DESCRIPTION:Do YOU have an interest in helping make the streets in your neighborhood\, and around the city\, safer and friendlier for people of all ages and abilities? Then you belong! Please join us at our monthly meeting to learn what we’ve been working on and to share your ideas!\n\nMessage us for Zoom details\, or sign up to receive meeting notices at our website: https://pedbikemelrose.org/?page_id=62
URL:https://pedbikemelrose.org/event/monthly-meeting-september-2021/
LOCATION:Zoom (contact us for details)
CATEGORIES:Ped/Bike Monthly Meetings
END:VEVENT
BEGIN:VEVENT
DTSTART;TZID=America/New_York:20210829T100000
DTEND;TZID=America/New_York:20210829T110000
DTSTAMP:20260423T183138
CREATED:20210825T023642Z
LAST-MODIFIED:20210825T023642Z
UID:481-1630231200-1630234800@pedbikemelrose.org
SUMMARY:Main Street Pilot Walk/Ride (Sunday)
DESCRIPTION:Interested in learning more about the “Lower Main” pilot project? Want to check out it out yourself and see what it’s all about? Bring your bikes\, scooters\, wheelchairs\, strollers etc to check out the incredible opportunity the city has to implement a transformative road safety project. \nMeet us at the corner of Main and Sylvan\, next to Metro Credit Union\, at 10am. We’ll be heading north\, turning around at Wyoming\, and heading back south. The conditions of the pavement are awful\, but that shouldn’t stop us from imagining all this corridor can be once the city completes the final work! \nThis event is for all ages and abilities! \n(A group of us will probably head over to Jitters afterwards\, too — you can never have too much coffee).
URL:https://pedbikemelrose.org/event/main-street-pilot-walk-ride-sunday/
LOCATION:Main & Sylvan\, 138 Main St\, Melrose\, MA\, 02176\, United States
END:VEVENT
BEGIN:VEVENT
DTSTART;TZID=America/New_York:20210828T100000
DTEND;TZID=America/New_York:20210828T110000
DTSTAMP:20260423T183138
CREATED:20210825T023518Z
LAST-MODIFIED:20210825T023518Z
UID:477-1630144800-1630148400@pedbikemelrose.org
SUMMARY:Main Street Pilot Walk/Ride (Saturday)
DESCRIPTION:Interested in learning more about the “Lower Main” pilot project? Want to check out it out yourself and see what it’s all about? Bring your bikes\, scooters\, wheelchairs\, strollers etc to check out the incredible opportunity the city has to implement a transformative road safety project.\n\nMeet us at the corner of Main and Sylvan\, next to Metro Credit Union\, at 10am. We’ll be heading north\, turning around at Wyoming\, and heading back south. The conditions of the pavement are awful\, but that shouldn’t stop us from imagining all this corridor can be once the city completes the final work!\n\nThis event is for all ages and abilities!\n\n(A group of us will probably head over to Jitters afterwards\, too — you can never have too much coffee).
URL:https://pedbikemelrose.org/event/main-street-pilot-walk-ride-saturday/
LOCATION:Main & Sylvan\, 138 Main St\, Melrose\, MA\, 02176\, United States
ATTACH;FMTTYPE=image/jpeg:https://pedbikemelrose.org/wp-content/uploads/2021/08/mainst.jpg
END:VEVENT
BEGIN:VEVENT
DTSTART;TZID=America/New_York:20210805T190000
DTEND;TZID=America/New_York:20210805T200000
DTSTAMP:20260423T183138
CREATED:20210804T020937Z
LAST-MODIFIED:20210804T020937Z
UID:471-1628190000-1628193600@pedbikemelrose.org
SUMMARY:Monthly Meeting
DESCRIPTION:Do YOU have an interest in helping make the streets in your neighborhood\, and around the city\, safer and friendlier for people of all ages and abilities? Then you belong! Please join us at our monthly meeting to learn what we’ve been working on and to share your ideas!\n\nMessage us for Zoom details\, or sign up to receive meeting notices at our website: https://pedbikemelrose.org/?page_id=62
URL:https://pedbikemelrose.org/event/monthly-meeting/
LOCATION:Zoom (contact us for details)
CATEGORIES:Ped/Bike Monthly Meetings
END:VEVENT
BEGIN:VEVENT
DTSTART;TZID=America/New_York:20210721T190000
DTEND;TZID=America/New_York:20210721T200000
DTSTAMP:20260423T183138
CREATED:20210716T023138Z
LAST-MODIFIED:20210716T023138Z
UID:468-1626894000-1626897600@pedbikemelrose.org
SUMMARY:City of Melrose Lower Main Street Pilot
DESCRIPTION:Meeting Notice: City of Melrose Lower Main Street Pilot\nPOSTED ON: JULY 15\, 2021 – 4:17PM\n\n\n\n\n\n\n\n\nThe City of Melrose is pleased to announce a pilot program to improve vehicle\, pedestrian\, and bicycle safety. The intent of the project is to improve safety for all users of the roadway on Main Street between West Wyoming Avenue and the Malden line. \nWe will be conducting a public forum to present the pilot project and solicit feedback from the neighborhood and users of the roadway. The meeting will be held virtually on Wednesday\, July 21st at 7:00 PM. The link to join the meeting can be found at www.cityofmelrose.org/remote-meetings \nThe City is in a unique position to be able to pilot potential line striping changes now\, in advance of final paving of portions of this corridor in the fall. By placing temporary markings in the road this summer\, we can gauge community feedback and determine whether these changes are the right choice for the long-term. \nThis pilot project will consist of shifting the center line\, installing bike lanes\, and eliminating parking on one side of the road in select project areas\, to accommodate the changes. Our long-term plans also include the addition of new crosswalks across Main Street along with accessible curb ramps and other pedestrian safety improvements. \nWe hope you are able to attend this meeting. If you have any questions in advance of the meeting\, please contact the Melrose Engineering Division at 781-979-4172. We hope you will be able to join us.
URL:https://pedbikemelrose.org/event/city-of-melrose-lower-main-street-pilot/
END:VEVENT
BEGIN:VEVENT
DTSTART;TZID=America/New_York:20210708T190000
DTEND;TZID=America/New_York:20210708T200000
DTSTAMP:20260423T183138
CREATED:20210707T154823Z
LAST-MODIFIED:20210707T154823Z
UID:462-1625770800-1625774400@pedbikemelrose.org
SUMMARY:Monthly Meeting: July 2021
DESCRIPTION:Do YOU have an interest in helping make the streets in your neighborhood\, and around the city\, safer and friendlier for people of all ages and abilities? Then you belong! Please join us at our monthly meeting to learn what we’ve been working on and to share your ideas!\n\nMessage us for Zoom details\, or sign up to receive meeting notices at our website: https://pedbikemelrose.org/?page_id=62
URL:https://pedbikemelrose.org/event/monthly-meeting-july-2021/
LOCATION:Zoom (contact us for details)
END:VEVENT
BEGIN:VEVENT
DTSTART;TZID=America/New_York:20210603T190000
DTEND;TZID=America/New_York:20210603T203000
DTSTAMP:20260423T183138
CREATED:20210602T015551Z
LAST-MODIFIED:20210602T015551Z
UID:439-1622746800-1622752200@pedbikemelrose.org
SUMMARY:Monthly Meeting: June 2021
DESCRIPTION:Hey friend! Do YOU have ideas for making the streets of Melrose safer and more people-friendly? Then you belong at our next monthly meeting. Whether it’s your first or your fiftieth\, PLEASE stop by and join the conversation to share your thoughts\, or to just listen to what we’re working on. We can’t wait to see you! Drop us a line if you need a link to the Zoom registration.
URL:https://pedbikemelrose.org/event/monthly-meeting-june-2021/
LOCATION:Zoom (contact us for details)
ATTACH;FMTTYPE=image/jpeg:https://pedbikemelrose.org/wp-content/uploads/2020/11/87864585_1617703005037455_9190575756776833024_o.jpg
END:VEVENT
BEGIN:VEVENT
DTSTART;TZID=America/New_York:20210522T113000
DTEND;TZID=America/New_York:20210522T153000
DTSTAMP:20260423T183138
CREATED:20210430T023438Z
LAST-MODIFIED:20210430T023459Z
UID:395-1621683000-1621697400@pedbikemelrose.org
SUMMARY:Ride for Black Lives VI
DESCRIPTION:The Ride for Black Lives is a bike ride in solidarity with the fight against systems and acts of oppression\, police brutality\, and murder of Black people.
URL:https://pedbikemelrose.org/event/ride-for-black-lives-vi/
LOCATION:White Field at Franklin Park\, 450 Walnut Ave\, Boston\, MA\, 02130\, United States
END:VEVENT
BEGIN:VEVENT
DTSTART;TZID=America/New_York:20210515T100000
DTEND;TZID=America/New_York:20210515T130000
DTSTAMP:20260423T183138
CREATED:20210427T151803Z
LAST-MODIFIED:20210427T151803Z
UID:388-1621072800-1621083600@pedbikemelrose.org
SUMMARY:Malden Bicycle Fair
DESCRIPTION:Join our wonderful friends at Bike to the Sea for the Malden Bicycle Fair. Events include: \n\nHelmet giveaway\nHelmet decorating\nSafety course/instruction\nBicycle safety check\nTrivia wheel\n\nThere will also be a bike raffle! \nRegister for the event here.
URL:https://pedbikemelrose.org/event/malden-bicycle-fair/
LOCATION:Ferryway School\, 150 Cross St\, Malden\, MA\, 02148\, United States
END:VEVENT
BEGIN:VEVENT
DTSTART;TZID=America/New_York:20210506T190000
DTEND;TZID=America/New_York:20210506T203000
DTSTAMP:20260423T183138
CREATED:20210422T120558Z
LAST-MODIFIED:20210504T143117Z
UID:380-1620327600-1620333000@pedbikemelrose.org
SUMMARY:Monthly Meeting: May 2021
DESCRIPTION:Hey friend! Do YOU have ideas for making the streets of Melrose safer and more people-friendly? Then you belong at our next monthly meeting. Whether it’s your first or your fiftieth\, PLEASE stop by and join the conversation to share your thoughts\, or to just listen to what we’re working on. We can’t wait to see you! Drop us a line if you need a link to the Zoom registration.
URL:https://pedbikemelrose.org/event/monthly-meeting-may-2021/
LOCATION:Zoom (contact us for details)
CATEGORIES:Ped/Bike Monthly Meetings
ATTACH;FMTTYPE=image/jpeg:https://pedbikemelrose.org/wp-content/uploads/2020/10/EkZmt9wXoAA7CaC.jpg
END:VEVENT
BEGIN:VEVENT
DTSTART;TZID=America/New_York:20210505T180000
DTEND;TZID=America/New_York:20210505T193000
DTSTAMP:20260423T183138
CREATED:20210422T014333Z
LAST-MODIFIED:20210422T014333Z
UID:369-1620237600-1620243000@pedbikemelrose.org
SUMMARY:LFP & Melrose St: Intersection Improvements Public Meeting #2
DESCRIPTION:On Wednesday\, May 5\, the Massachusetts Department of Conservation and Recreation will host its second public meeting regarding the intersection of Melrose St/Crystal St/Lynn Fells Parkway. At this meeting\, it is expected that DCR will present conceptual design options. Sign up to attend at https://buff.ly/3tHfEmq
URL:https://pedbikemelrose.org/event/lfp-melrose-st-intersection-improvements-public-meeting-2/
ATTACH;FMTTYPE=image/png:https://pedbikemelrose.org/wp-content/uploads/2020/12/LFP-MELROSE.png
END:VEVENT
BEGIN:VEVENT
DTSTART;TZID=America/New_York:20210502T160000
DTEND;TZID=America/New_York:20210502T180000
DTSTAMP:20260423T183138
CREATED:20210422T152757Z
LAST-MODIFIED:20210425T223259Z
UID:383-1619971200-1619978400@pedbikemelrose.org
SUMMARY:Lynn Fells Parkway - Open Streets Event
DESCRIPTION:Come celebrate Melrose’s first Open Street-style event in over a year! \nGood morning Melrose. Melrose Free Street will be re-scheduled to Sunday May 2nd due to the weather forecast. This means Lynn Fells Parkway will be closed from Melrose St. to Tremont street from 4PM to 6 PM on May 2nd so folks can walk\, bike\, and play. \n— Mayor Paul Brodeur
URL:https://pedbikemelrose.org/event/lynn-fells-parkway-open-streets-event/
LOCATION:Lynn Fells Parkway & Melrose Street\, Melrose\, MA\, Lynn Fells Parkway & Melrose St\, Melrose\, MA\, 02176\, United States
ATTACH;FMTTYPE=image/jpeg:https://pedbikemelrose.org/wp-content/uploads/2021/04/lfp.jpg
END:VEVENT
BEGIN:VEVENT
DTSTART;TZID=America/New_York:20210424T090000
DTEND;TZID=America/New_York:20210424T120000
DTSTAMP:20260423T183138
CREATED:20210415T130237Z
LAST-MODIFIED:20210415T130237Z
UID:359-1619254800-1619265600@pedbikemelrose.org
SUMMARY:Keep Melrose Beautiful Spring 2021 Cleanup
DESCRIPTION:Keep Melrose Beautiful is joining other communities across the Commonwealth for the Great Massachusetts Cleanup! In partnership with Mayor Brodeur and the City of Melrose\, celebrate Earth Week by participating in a Community-wide Cleanup on Saturday\, April 24\, 9 am – 12 noon. Individuals\, families\, and small units are encouraged to reserve a clean-up location on SignUpGenius. This will help to prevent groups from converging; plus\, we’ll cover the entire city that way. If you don’t see one of your litter “trouble spots” on the list\, scroll down and add it to “Other.” Thank you!
URL:https://pedbikemelrose.org/event/keep-melrose-beautiful-spring-2021-cleanup/
END:VEVENT
BEGIN:VEVENT
DTSTART;TZID=America/New_York:20210424T090000
DTEND;TZID=America/New_York:20210424T120000
DTSTAMP:20260423T183138
CREATED:20210415T125841Z
LAST-MODIFIED:20210415T125841Z
UID:355-1619254800-1619265600@pedbikemelrose.org
SUMMARY:Bike to the Sea Trail Cleanup: Everett
DESCRIPTION:Join Bike to the Sea in giving the trail in Everett a spring cleaning! We’ll be meeting at Everett Earthworks Park on the trail in Everett\, MA. Bring work gloves; water and snacks will be provided. Masks will be required in order to participate. \nSponsored by Bike to the Sea
URL:https://pedbikemelrose.org/event/bike-to-the-sea-trail-cleanup-everett/
LOCATION:Everett Earthworks Park\, Everett Earthworks Park\, Everett\, MA\, 02149\, United States
END:VEVENT
BEGIN:VEVENT
DTSTART;TZID=America/New_York:20210417T090000
DTEND;TZID=America/New_York:20210417T120000
DTSTAMP:20260423T183138
CREATED:20210415T125602Z
LAST-MODIFIED:20210415T130006Z
UID:352-1618650000-1618660800@pedbikemelrose.org
SUMMARY:Bike to the Sea Trail Cleanup: Malden
DESCRIPTION:Spring is here and the Northern Strand could use a clean-up! Join Bike to the Sea in cleaning up a second section of the trail in Malden. We’ll be meeting in the parking lot behind Salemwood School\, 529 Salem St.\, Malden\, MA. Bring work gloves; water and snacks will be provided. Masks will be required in order to participate. \nCo-sponsored by Malden City Councilor Steve Winslow and Bike to the Sea.
URL:https://pedbikemelrose.org/event/bike-to-the-sea-trail-cleanup-malden/
LOCATION:529 Salem Street\, Malden\, MA\, 529 Salem St\, Malden\, MA\, 02148\, United States
END:VEVENT
END:VCALENDAR